BEGIN:VCALENDAR
VERSION:2.0
PRODID:-//American Civil War Museum - ECPv6.15.12.2//NONSGML v1.0//EN
CALSCALE:GREGORIAN
METHOD:PUBLISH
X-WR-CALNAME:American Civil War Museum
X-ORIGINAL-URL:https://acwm.org
X-WR-CALDESC:Events for American Civil War Museum
REFRESH-INTERVAL;VALUE=DURATION:PT1H
X-Robots-Tag:noindex
X-PUBLISHED-TTL:PT1H
BEGIN:VTIMEZONE
TZID:America/New_York
BEGIN:DAYLIGHT
TZOFFSETFROM:-0500
TZOFFSETTO:-0400
TZNAME:EDT
DTSTART:20230312T070000
END:DAYLIGHT
BEGIN:STANDARD
TZOFFSETFROM:-0400
TZOFFSETTO:-0500
TZNAME:EST
DTSTART:20231105T060000
END:STANDARD
BEGIN:DAYLIGHT
TZOFFSETFROM:-0500
TZOFFSETTO:-0400
TZNAME:EDT
DTSTART:20240310T070000
END:DAYLIGHT
BEGIN:STANDARD
TZOFFSETFROM:-0400
TZOFFSETTO:-0500
TZNAME:EST
DTSTART:20241103T060000
END:STANDARD
BEGIN:DAYLIGHT
TZOFFSETFROM:-0500
TZOFFSETTO:-0400
TZNAME:EDT
DTSTART:20250309T070000
END:DAYLIGHT
BEGIN:STANDARD
TZOFFSETFROM:-0400
TZOFFSETTO:-0500
TZNAME:EST
DTSTART:20251102T060000
END:STANDARD
END:VTIMEZONE
BEGIN:VEVENT
DTSTART;TZID=America/New_York:20240530T183000
DTEND;TZID=America/New_York:20240530T193000
DTSTAMP:20260422T063104
CREATED:20240206T155723Z
LAST-MODIFIED:20240416T181358Z
UID:10000178-1717093800-1717097400@acwm.org
SUMMARY:“The Grand Old Man of the Army: General Winfield Scott’s Unionism and the Secession Crisis” with Dr. Barton A. Myers￼
DESCRIPTION:General Winfield Scott\, the General in Chief of the U.S. Army\, is an important but often overlooked figure of the late antebellum period. He played a crucial role in the American government for two decades before the Civil War. This raises questions about how his stance on slavery\, abolition\, and unionism influenced his decisions between 1860 and 1861. To explore his personal loyalty\, we will analyze his relationships with notable figures like James Buchanan\, John B. Floyd\, Abraham Lincoln\, and Robert E. Lee\, among others\, during the sectional crisis. Join us for a discussion with Dr. Barton A. Myers of Washington and Lee University.\n\n\n\nBarton A. Myers is Professor of History at Washington and Lee University and the author of the awarding winning Executing Daniel Bright: Race\, Loyalty\, and Guerrilla Violence in a Coastal Carolina Community\, 1861-1865 (LSU Press\, 2009)\, Rebels Against the Confederacy: North Carolina’s Unionists (Cambridge Univ. Press\, 2014)\, and co-editor with Brian D. McKnight of The Guerrilla Hunters: Irregular Conflicts during the Civil War (LSU Press\, 2017). Dr. Myers is a recipient of prestigious grants and fellowships from the National Endowment for the Humanities\, the Gilder-Lehrman Institute of American History\, the Harry Frank Guggenheim Foundation\, the Andrew W. Mellon Foundation\, the Marine Corps Historical Center\, the Filson Historical Society\, the Virginia Historical Society\, and the Jack Miller Center for Teaching America’s Founding Principles and History. He speaks widely to Civil War groups and roundtables around the United States. Dr. Myers’ work has been featured in the national media\, including Time\, Los Angeles Times\, the Richmond Times-Dispatch\, Smerconish.com\, Sirius XM’s “The Michael Smerconish Program”\, CSPAN’s “American History TV”\, National Public Radio’s Virginia Insight\, and the Civil War Monitor. He was featured in the acclaimed HISTORY Channel documentary series GRANT\, produced by Leonardo DiCaprio and historian Ron Chernow\, as well as the HISTORY Channel miniseries event ABRAHAM LINCOLN\, featuring President Barack Obama and produced by historian Doris Kearns Goodwin. Most recently\, he served as an expert in the HISTORY series “DARK MARVELS” on the world history of diabolical military technology.  \n\n\n\n\n\n\n\nAll sales are final. Tickets and registrations are non-refundable unless the American Civil War Museum cancels an event.\n\n\n\n\n\n\nRegister on Eventbrite\n\n\n\n\n\n\n\nJoin us for our Spring Lecture Series as we delve into the causes\, course\, and consequences of the Civil War\, from abolition through Reconstruction\, as part of our extensive initiative “The Civil War & Remaking America” and prepare to open our newest exhibition\, The Impending Crisis in Spring 2024!
URL:https://acwm.org/event/grand-old-man-of-the-army-myers/
LOCATION:ACWM – Historic Tredegar\, 480 Tredegar St.\, Richmond\, Virginia\, 23219\, United States
CATEGORIES:Richmond Events
ATTACH;FMTTYPE=image/png:https://acwm.org/wp-content/uploads/grand-old-man-barton-header.png
END:VEVENT
END:VCALENDAR