BEGIN:VCALENDAR
VERSION:2.0
PRODID:-//American Civil War Museum - ECPv6.15.12.2//NONSGML v1.0//EN
CALSCALE:GREGORIAN
METHOD:PUBLISH
X-WR-CALNAME:American Civil War Museum
X-ORIGINAL-URL:https://acwm.org
X-WR-CALDESC:Events for American Civil War Museum
REFRESH-INTERVAL;VALUE=DURATION:PT1H
X-Robots-Tag:noindex
X-PUBLISHED-TTL:PT1H
BEGIN:VTIMEZONE
TZID:America/New_York
BEGIN:DAYLIGHT
TZOFFSETFROM:-0500
TZOFFSETTO:-0400
TZNAME:EDT
DTSTART:20230312T070000
END:DAYLIGHT
BEGIN:STANDARD
TZOFFSETFROM:-0400
TZOFFSETTO:-0500
TZNAME:EST
DTSTART:20231105T060000
END:STANDARD
BEGIN:DAYLIGHT
TZOFFSETFROM:-0500
TZOFFSETTO:-0400
TZNAME:EDT
DTSTART:20240310T070000
END:DAYLIGHT
BEGIN:STANDARD
TZOFFSETFROM:-0400
TZOFFSETTO:-0500
TZNAME:EST
DTSTART:20241103T060000
END:STANDARD
BEGIN:DAYLIGHT
TZOFFSETFROM:-0500
TZOFFSETTO:-0400
TZNAME:EDT
DTSTART:20250309T070000
END:DAYLIGHT
BEGIN:STANDARD
TZOFFSETFROM:-0400
TZOFFSETTO:-0500
TZNAME:EST
DTSTART:20251102T060000
END:STANDARD
END:VTIMEZONE
BEGIN:VEVENT
DTSTART;TZID=America/New_York:20240622T110000
DTEND;TZID=America/New_York:20240622T110000
DTSTAMP:20260422T063136
CREATED:20240619T014909Z
LAST-MODIFIED:20240619T014911Z
UID:10000948-1719054000-1719054000@acwm.org
SUMMARY:Tredegar History Tour every Saturday & Sunday at 11am and 3pm with musket firing demonstration at 1pm!
DESCRIPTION:Find yourself in history this summer at the American Civil War Museum!\n\n\n\n\n\nJoin a guided tour of the former Tredegar Iron Works site and see a musket firing demonstration by our historians! Both are included with museum admission. Every Saturday and Sunday this summer!
URL:https://acwm.org/event/tredegar-history-tour-every-saturday-sunday-at-11am-and-3pm-with-musket-firing-demonstration-at-1pm/
LOCATION:The American Civil War Museum – Historic Tredegar\, 480 Tredegar St.\, Richmond\, Virginia\, 23219\, United States
CATEGORIES:Family-Friendly,For Educators,For Students,Lectures,Members & Donors Only,Open House,Performance,Richmond Events,Tours
ATTACH;FMTTYPE=image/jpeg:https://acwm.org/wp-content/uploads/Tredegar-ironworks-tour-square.jpg
END:VEVENT
END:VCALENDAR