BEGIN:VCALENDAR
VERSION:2.0
PRODID:-//American Civil War Museum - ECPv6.15.12.2//NONSGML v1.0//EN
CALSCALE:GREGORIAN
METHOD:PUBLISH
X-ORIGINAL-URL:https://acwm.org
X-WR-CALDESC:Events for American Civil War Museum
REFRESH-INTERVAL;VALUE=DURATION:PT1H
X-Robots-Tag:noindex
X-PUBLISHED-TTL:PT1H
BEGIN:VTIMEZONE
TZID:America/New_York
BEGIN:DAYLIGHT
TZOFFSETFROM:-0500
TZOFFSETTO:-0400
TZNAME:EDT
DTSTART:20230312T070000
END:DAYLIGHT
BEGIN:STANDARD
TZOFFSETFROM:-0400
TZOFFSETTO:-0500
TZNAME:EST
DTSTART:20231105T060000
END:STANDARD
BEGIN:DAYLIGHT
TZOFFSETFROM:-0500
TZOFFSETTO:-0400
TZNAME:EDT
DTSTART:20240310T070000
END:DAYLIGHT
BEGIN:STANDARD
TZOFFSETFROM:-0400
TZOFFSETTO:-0500
TZNAME:EST
DTSTART:20241103T060000
END:STANDARD
BEGIN:DAYLIGHT
TZOFFSETFROM:-0500
TZOFFSETTO:-0400
TZNAME:EDT
DTSTART:20250309T070000
END:DAYLIGHT
BEGIN:STANDARD
TZOFFSETFROM:-0400
TZOFFSETTO:-0500
TZNAME:EST
DTSTART:20251102T060000
END:STANDARD
END:VTIMEZONE
BEGIN:VEVENT
DTSTART;TZID=America/New_York:20240818T100000
DTEND;TZID=America/New_York:20240818T170000
DTSTAMP:20260422T030517
CREATED:20240714T222950Z
LAST-MODIFIED:20240818T010909Z
UID:10000965-1723975200-1724000400@acwm.org
SUMMARY:Greenback America Exhibit is Open daily at ACWM-Appomattox
DESCRIPTION:Visitors will explore how Americans assigned cultural meaning to money\, and how doing so helped them interpret politics\, patriotism\, and race. This temporary exhibit tells the story of how the United States’ decision on how to pay off the Civil War transformed the relationship between the government\, the economy\, banks\, and citizens. \n\n\n\n\n\n\n\n\n\n\nACWM-Appomattox
URL:https://acwm.org/event/greenback-america-exhibit-is-open-daily-at-acwm-appomattox-3/
CATEGORIES:Appomattox Events,Book Talk,Family-Friendly,For Educators,For Students,Lectures,Open House,Tours
ATTACH;FMTTYPE=image/png:https://acwm.org/wp-content/uploads/unnamed-1-3.png
END:VEVENT
END:VCALENDAR