BEGIN:VCALENDAR
VERSION:2.0
PRODID:-//American Civil War Museum - ECPv6.15.12.2//NONSGML v1.0//EN
CALSCALE:GREGORIAN
METHOD:PUBLISH
X-ORIGINAL-URL:https://acwm.org
X-WR-CALDESC:Events for American Civil War Museum
REFRESH-INTERVAL;VALUE=DURATION:PT1H
X-Robots-Tag:noindex
X-PUBLISHED-TTL:PT1H
BEGIN:VTIMEZONE
TZID:America/New_York
BEGIN:DAYLIGHT
TZOFFSETFROM:-0500
TZOFFSETTO:-0400
TZNAME:EDT
DTSTART:20230312T070000
END:DAYLIGHT
BEGIN:STANDARD
TZOFFSETFROM:-0400
TZOFFSETTO:-0500
TZNAME:EST
DTSTART:20231105T060000
END:STANDARD
BEGIN:DAYLIGHT
TZOFFSETFROM:-0500
TZOFFSETTO:-0400
TZNAME:EDT
DTSTART:20240310T070000
END:DAYLIGHT
BEGIN:STANDARD
TZOFFSETFROM:-0400
TZOFFSETTO:-0500
TZNAME:EST
DTSTART:20241103T060000
END:STANDARD
BEGIN:DAYLIGHT
TZOFFSETFROM:-0500
TZOFFSETTO:-0400
TZNAME:EDT
DTSTART:20250309T070000
END:DAYLIGHT
BEGIN:STANDARD
TZOFFSETFROM:-0400
TZOFFSETTO:-0500
TZNAME:EST
DTSTART:20251102T060000
END:STANDARD
END:VTIMEZONE
BEGIN:VEVENT
DTSTART;TZID=America/New_York:20240919T180000
DTEND;TZID=America/New_York:20240919T193000
DTSTAMP:20260422T012139
CREATED:20240806T183502Z
LAST-MODIFIED:20240807T141548Z
UID:10000973-1726768800-1726774200@acwm.org
SUMMARY:In-Person Book Talk with Dr. Yael Sternhell: War on Record
DESCRIPTION:How do Civil War historians craft their narratives? What do they actually know about the sources they rely on to convey historical truths? In a talk drawing on her new book\, Yael A. Sternhell discusses the Civil War’s most important archive and reveal how what we consider as factual knowledge about America’s greatest conflict was actually shaped by an intricate web of ideological currents and political struggles during the postbellum era.Yael Sternhell\, Ph.D. teaches history and American studies at Tel Aviv University and  is also the author of Routes of War: The World of Movement in the Confederate South.  \n\n\n\nFree to ACWM Members\, Non-members $10 \n\n\n\nPre-event Member Reception 5:00pm-6:00pm
URL:https://acwm.org/event/in-person-book-talk-with-dr-yael-sternhell-war-on-record/
LOCATION:The American Civil War Museum – Historic Tredegar\, 480 Tredegar St.\, Richmond\, Virginia\, 23219\, United States
CATEGORIES:Book Talk,Richmond Events
ATTACH;FMTTYPE=image/jpeg:https://acwm.org/wp-content/uploads/ACWM-EVENTS-HEADERS-4.jpg
END:VEVENT
END:VCALENDAR