BEGIN:VCALENDAR
VERSION:2.0
PRODID:-//American Civil War Museum - ECPv6.15.12.2//NONSGML v1.0//EN
CALSCALE:GREGORIAN
METHOD:PUBLISH
X-WR-CALNAME:American Civil War Museum
X-ORIGINAL-URL:https://acwm.org
X-WR-CALDESC:Events for American Civil War Museum
REFRESH-INTERVAL;VALUE=DURATION:PT1H
X-Robots-Tag:noindex
X-PUBLISHED-TTL:PT1H
BEGIN:VTIMEZONE
TZID:America/New_York
BEGIN:DAYLIGHT
TZOFFSETFROM:-0500
TZOFFSETTO:-0400
TZNAME:EDT
DTSTART:20230312T070000
END:DAYLIGHT
BEGIN:STANDARD
TZOFFSETFROM:-0400
TZOFFSETTO:-0500
TZNAME:EST
DTSTART:20231105T060000
END:STANDARD
BEGIN:DAYLIGHT
TZOFFSETFROM:-0500
TZOFFSETTO:-0400
TZNAME:EDT
DTSTART:20240310T070000
END:DAYLIGHT
BEGIN:STANDARD
TZOFFSETFROM:-0400
TZOFFSETTO:-0500
TZNAME:EST
DTSTART:20241103T060000
END:STANDARD
BEGIN:DAYLIGHT
TZOFFSETFROM:-0500
TZOFFSETTO:-0400
TZNAME:EDT
DTSTART:20250309T070000
END:DAYLIGHT
BEGIN:STANDARD
TZOFFSETFROM:-0400
TZOFFSETTO:-0500
TZNAME:EST
DTSTART:20251102T060000
END:STANDARD
END:VTIMEZONE
BEGIN:VEVENT
DTSTART;TZID=America/New_York:20240925T173000
DTEND;TZID=America/New_York:20240925T190000
DTSTAMP:20260422T011924
CREATED:20240911T150519Z
LAST-MODIFIED:20240911T152501Z
UID:10000983-1727285400-1727290800@acwm.org
SUMMARY:Trivia Night at the Museum
DESCRIPTION:Join us for drinks and a few rounds of trivia! Tredegar\, ACWM\, and of the Civil War – lots of topics\, lots of fun!  With our partner Virago Spirits\, his event is part of our Wind Down Wednesday series when we welcome visitors to our Tredegar site after hours. This popular event features signature cocktails with a side of Civil War history in an incredible riverfront Richmond landmark\, Tredegar. \n\n\n\n\nGet Tickets!
URL:https://acwm.org/event/trivia-night-at-the-museum/
CATEGORIES:Richmond Events,Wine-Down Wednesdays
ATTACH;FMTTYPE=image/jpeg:https://acwm.org/wp-content/uploads/WDW-September-Trivia-EB_v2-scaled.jpg
END:VEVENT
END:VCALENDAR