BEGIN:VCALENDAR
VERSION:2.0
PRODID:-//American Civil War Museum - ECPv6.15.12.2//NONSGML v1.0//EN
CALSCALE:GREGORIAN
METHOD:PUBLISH
X-WR-CALNAME:American Civil War Museum
X-ORIGINAL-URL:https://acwm.org
X-WR-CALDESC:Events for American Civil War Museum
REFRESH-INTERVAL;VALUE=DURATION:PT1H
X-Robots-Tag:noindex
X-PUBLISHED-TTL:PT1H
BEGIN:VTIMEZONE
TZID:America/New_York
BEGIN:DAYLIGHT
TZOFFSETFROM:-0500
TZOFFSETTO:-0400
TZNAME:EDT
DTSTART:20230312T070000
END:DAYLIGHT
BEGIN:STANDARD
TZOFFSETFROM:-0400
TZOFFSETTO:-0500
TZNAME:EST
DTSTART:20231105T060000
END:STANDARD
BEGIN:DAYLIGHT
TZOFFSETFROM:-0500
TZOFFSETTO:-0400
TZNAME:EDT
DTSTART:20240310T070000
END:DAYLIGHT
BEGIN:STANDARD
TZOFFSETFROM:-0400
TZOFFSETTO:-0500
TZNAME:EST
DTSTART:20241103T060000
END:STANDARD
BEGIN:DAYLIGHT
TZOFFSETFROM:-0500
TZOFFSETTO:-0400
TZNAME:EDT
DTSTART:20250309T070000
END:DAYLIGHT
BEGIN:STANDARD
TZOFFSETFROM:-0400
TZOFFSETTO:-0500
TZNAME:EST
DTSTART:20251102T060000
END:STANDARD
END:VTIMEZONE
BEGIN:VEVENT
DTSTART;TZID=America/New_York:20241021T183000
DTEND;TZID=America/New_York:20241021T203000
DTSTAMP:20260421T234355
CREATED:20240918T163422Z
LAST-MODIFIED:20240918T163545Z
UID:10000985-1729535400-1729542600@acwm.org
SUMMARY:Tredegar Society Wine Dinner
DESCRIPTION:Please join the Tredegar Society for our Third Annual Wine Dinner. This year’s dinner will feature the wonderful wines of Tuscany paired with a three-course meal from Enoteca Sogno. Come enjoy great Italian food and wine while supporting the American Civil War Museum! \n\n\n\nThe Tredegar Society of the American Civil War Museum supports the museum’s mission to provide a better understanding of the causes\, course\, and consequences of the Civil War. \n\n\n\n\n\n\n\n\n\n\nMake your reservation!
URL:https://acwm.org/event/tredegar-society-wine-dinner/
LOCATION:Enoteca Sogno\, 1223 Bellevue Avenue\, Richmond\, Virginia\, 23227
CATEGORIES:Richmond Events
ATTACH;FMTTYPE=image/jpeg:https://acwm.org/wp-content/uploads/TS2024_wine-dinner-eventbrite-scaled.jpg
END:VEVENT
END:VCALENDAR