BEGIN:VCALENDAR
VERSION:2.0
PRODID:-//American Civil War Museum - ECPv6.15.12.2//NONSGML v1.0//EN
CALSCALE:GREGORIAN
METHOD:PUBLISH
X-ORIGINAL-URL:https://acwm.org
X-WR-CALDESC:Events for American Civil War Museum
REFRESH-INTERVAL;VALUE=DURATION:PT1H
X-Robots-Tag:noindex
X-PUBLISHED-TTL:PT1H
BEGIN:VTIMEZONE
TZID:America/New_York
BEGIN:DAYLIGHT
TZOFFSETFROM:-0500
TZOFFSETTO:-0400
TZNAME:EDT
DTSTART:20230312T070000
END:DAYLIGHT
BEGIN:STANDARD
TZOFFSETFROM:-0400
TZOFFSETTO:-0500
TZNAME:EST
DTSTART:20231105T060000
END:STANDARD
BEGIN:DAYLIGHT
TZOFFSETFROM:-0500
TZOFFSETTO:-0400
TZNAME:EDT
DTSTART:20240310T070000
END:DAYLIGHT
BEGIN:STANDARD
TZOFFSETFROM:-0400
TZOFFSETTO:-0500
TZNAME:EST
DTSTART:20241103T060000
END:STANDARD
BEGIN:DAYLIGHT
TZOFFSETFROM:-0500
TZOFFSETTO:-0400
TZNAME:EDT
DTSTART:20250309T070000
END:DAYLIGHT
BEGIN:STANDARD
TZOFFSETFROM:-0400
TZOFFSETTO:-0500
TZNAME:EST
DTSTART:20251102T060000
END:STANDARD
END:VTIMEZONE
BEGIN:VEVENT
DTSTART;TZID=America/New_York:20241107T183000
DTEND;TZID=America/New_York:20241107T193000
DTSTAMP:20260421T215926
CREATED:20241018T222954Z
LAST-MODIFIED:20241101T162657Z
UID:10000990-1731004200-1731007800@acwm.org
SUMMARY:Virtual Book Talk - "Dranesville: A Northern Virginia Town Caught in the Crossfire of Battle"
DESCRIPTION:This small Union victory is often overlooked\, but it was emblematic of the fighting that was to come. At Dranesville\, civilians were caught up in the spreading Civil War\, and officers\, who would become household names\, gained early experience. \n\n\n\nRyan Quint\, a native of Maine\, earned his degree in history from the University of Mary Washington in Fredericksburg\, VA. He has worked in the field of public history\, including at the George Washington Foundation\, Colonial Williamsburg\, and the National Park Service.
URL:https://acwm.org/event/virtual-book-talk-drainsville-a-northern-virginia-town-caught-in-the-crossfire-of-battle/
CATEGORIES:Book Talk,Virtual Programs
ATTACH;FMTTYPE=image/jpeg:https://acwm.org/wp-content/uploads/PXL_20241003_123258008-scaled.jpg
END:VEVENT
END:VCALENDAR