BEGIN:VCALENDAR
VERSION:2.0
PRODID:-//American Civil War Museum - ECPv6.15.12.2//NONSGML v1.0//EN
CALSCALE:GREGORIAN
METHOD:PUBLISH
X-ORIGINAL-URL:https://acwm.org
X-WR-CALDESC:Events for American Civil War Museum
REFRESH-INTERVAL;VALUE=DURATION:PT1H
X-Robots-Tag:noindex
X-PUBLISHED-TTL:PT1H
BEGIN:VTIMEZONE
TZID:America/New_York
BEGIN:DAYLIGHT
TZOFFSETFROM:-0500
TZOFFSETTO:-0400
TZNAME:EDT
DTSTART:20230312T070000
END:DAYLIGHT
BEGIN:STANDARD
TZOFFSETFROM:-0400
TZOFFSETTO:-0500
TZNAME:EST
DTSTART:20231105T060000
END:STANDARD
BEGIN:DAYLIGHT
TZOFFSETFROM:-0500
TZOFFSETTO:-0400
TZNAME:EDT
DTSTART:20240310T070000
END:DAYLIGHT
BEGIN:STANDARD
TZOFFSETFROM:-0400
TZOFFSETTO:-0500
TZNAME:EST
DTSTART:20241103T060000
END:STANDARD
BEGIN:DAYLIGHT
TZOFFSETFROM:-0500
TZOFFSETTO:-0400
TZNAME:EDT
DTSTART:20250309T070000
END:DAYLIGHT
BEGIN:STANDARD
TZOFFSETFROM:-0400
TZOFFSETTO:-0500
TZNAME:EST
DTSTART:20251102T060000
END:STANDARD
END:VTIMEZONE
BEGIN:VEVENT
DTSTART;TZID=America/New_York:20241114T180000
DTEND;TZID=America/New_York:20241114T200000
DTSTAMP:20260421T214536
CREATED:20241021T185753Z
LAST-MODIFIED:20241021T185756Z
UID:10000991-1731607200-1731614400@acwm.org
SUMMARY:"Now We Stand By Each Other Always" - a performance in three acts.
DESCRIPTION:Rudely Stamp’d Historical Impressions presents “Now We Stand by Each Other Always” November 14th at the American Civil War Museum at Appomattox Court House. \n\n\n\nThis three-act play features a series of conversations between Genls. Grant and Sherman over the course of the Civil War.  These conversations take place at key moments in the war and demonstrate the evolving friendship between the men – Vicksburg\, MS in 1863\, Cincinnati\, OH in 1864 and City Point\, VA in 1865. \n\n\n\nHeroes of the Union war effort\, Grant and Sherman were unlikely friends with dramatically different personalities.  Grant\, ever stoic\, was quiet\, reticent and almost shy.  Sherman\, on the other hand\, was manic\, nervous\, fidgety and intense.  Despite these differences\, the men forged a friendship in the fire of war and led the Union’s armies to ultimate victory.
URL:https://acwm.org/event/now-we-stand-by-each-other-always-a-performance-in-three-acts/
LOCATION:American Civil War Museum – Appomattox\, 159 Horseshoe Rd\, Appomattox\, Virginia\, 24522\, United States
CATEGORIES:Appomattox Events
ATTACH;FMTTYPE=image/jpeg:https://acwm.org/wp-content/uploads/nowwestand1-scaled.jpeg
END:VEVENT
END:VCALENDAR