BEGIN:VCALENDAR
VERSION:2.0
PRODID:-//American Civil War Museum - ECPv6.15.12.2//NONSGML v1.0//EN
CALSCALE:GREGORIAN
METHOD:PUBLISH
X-ORIGINAL-URL:https://acwm.org
X-WR-CALDESC:Events for American Civil War Museum
REFRESH-INTERVAL;VALUE=DURATION:PT1H
X-Robots-Tag:noindex
X-PUBLISHED-TTL:PT1H
BEGIN:VTIMEZONE
TZID:America/New_York
BEGIN:DAYLIGHT
TZOFFSETFROM:-0500
TZOFFSETTO:-0400
TZNAME:EDT
DTSTART:20230312T070000
END:DAYLIGHT
BEGIN:STANDARD
TZOFFSETFROM:-0400
TZOFFSETTO:-0500
TZNAME:EST
DTSTART:20231105T060000
END:STANDARD
BEGIN:DAYLIGHT
TZOFFSETFROM:-0500
TZOFFSETTO:-0400
TZNAME:EDT
DTSTART:20240310T070000
END:DAYLIGHT
BEGIN:STANDARD
TZOFFSETFROM:-0400
TZOFFSETTO:-0500
TZNAME:EST
DTSTART:20241103T060000
END:STANDARD
BEGIN:DAYLIGHT
TZOFFSETFROM:-0500
TZOFFSETTO:-0400
TZNAME:EDT
DTSTART:20250309T070000
END:DAYLIGHT
BEGIN:STANDARD
TZOFFSETFROM:-0400
TZOFFSETTO:-0500
TZNAME:EST
DTSTART:20251102T060000
END:STANDARD
END:VTIMEZONE
BEGIN:VEVENT
DTSTART;TZID=America/New_York:20241121T173000
DTEND;TZID=America/New_York:20241121T193000
DTSTAMP:20260421T214537
CREATED:20241022T000859Z
LAST-MODIFIED:20241025T172821Z
UID:10000992-1732210200-1732217400@acwm.org
SUMMARY:Annual Tredegar Tree Lighting!
DESCRIPTION:Join us at the popular Tredegar Tree Lighting when we officially illuminate the 20ft tall tree in the museum lobby! A Richmond holiday event favorite\, the lighting of the Tredegar Tree features live music by the Joe Sarver Trio\, holiday cheer provided by Virago Spirits\, is family friendly and free to the public. The Tredegar Tree is decorated with hand-crafted 19th century era style ornaments and hundreds of lights. A great way to start the season! This event is sponsored by The Wilton Companies. \n\n\n\nACWM is pleased to be an official Toys for Tots collection partner and encourage guests to bring an unwrapped toy to donate at the Tredegar Tree Lighting!
URL:https://acwm.org/event/annual-tredegar-tree-lighting/
LOCATION:American Civil War Museum\, 480 Tredegar St\, Richmond\, Virginia\, 23219\, United States
CATEGORIES:Family-Friendly,Richmond Events
ATTACH;FMTTYPE=image/jpeg:https://acwm.org/wp-content/uploads/Tree-Lighting-24_website.jpg
END:VEVENT
END:VCALENDAR