BEGIN:VCALENDAR
VERSION:2.0
PRODID:-//American Civil War Museum - ECPv6.15.12.2//NONSGML v1.0//EN
CALSCALE:GREGORIAN
METHOD:PUBLISH
X-ORIGINAL-URL:https://acwm.org
X-WR-CALDESC:Events for American Civil War Museum
REFRESH-INTERVAL;VALUE=DURATION:PT1H
X-Robots-Tag:noindex
X-PUBLISHED-TTL:PT1H
BEGIN:VTIMEZONE
TZID:America/New_York
BEGIN:DAYLIGHT
TZOFFSETFROM:-0500
TZOFFSETTO:-0400
TZNAME:EDT
DTSTART:20240310T070000
END:DAYLIGHT
BEGIN:STANDARD
TZOFFSETFROM:-0400
TZOFFSETTO:-0500
TZNAME:EST
DTSTART:20241103T060000
END:STANDARD
BEGIN:DAYLIGHT
TZOFFSETFROM:-0500
TZOFFSETTO:-0400
TZNAME:EDT
DTSTART:20250309T070000
END:DAYLIGHT
BEGIN:STANDARD
TZOFFSETFROM:-0400
TZOFFSETTO:-0500
TZNAME:EST
DTSTART:20251102T060000
END:STANDARD
BEGIN:DAYLIGHT
TZOFFSETFROM:-0500
TZOFFSETTO:-0400
TZNAME:EDT
DTSTART:20260308T070000
END:DAYLIGHT
BEGIN:STANDARD
TZOFFSETFROM:-0400
TZOFFSETTO:-0500
TZNAME:EST
DTSTART:20261101T060000
END:STANDARD
END:VTIMEZONE
BEGIN:VEVENT
DTSTART;TZID=America/New_York:20250130T183000
DTEND;TZID=America/New_York:20250130T193000
DTSTAMP:20260421T163041
CREATED:20250109T232914Z
LAST-MODIFIED:20250109T232916Z
UID:10000999-1738261800-1738265400@acwm.org
SUMMARY:Virtual Book Talk 'Kidnapped At Sea: The Civil War Voyage of David Henry White' with Andrew Sillen
DESCRIPTION:David Henry White\, a free Black teenage sailor from Lewes\, Delaware\, was kidnapped by Captain Raphael Semmes of the Confederate raider Alabama on October 9\, 1862\, from the Philadelphia-based packet ship Tonawanda. White remained captive on the Alabama for over 600 days\, until he drowned during the Battle of Cherbourg on June 19\, 1864.
URL:https://acwm.org/event/virtual-book-talk-kidnapped-at-sea-the-civil-war-voyage-of-david-henry-white-with-andrew-sillen/
CATEGORIES:Book Talk,Virtual Programs
ATTACH;FMTTYPE=image/jpeg:https://acwm.org/wp-content/uploads/Sillen-Jan-30-2025_web-header-scaled.jpg
END:VEVENT
END:VCALENDAR