BEGIN:VCALENDAR
VERSION:2.0
PRODID:-//American Civil War Museum - ECPv6.15.12.2//NONSGML v1.0//EN
CALSCALE:GREGORIAN
METHOD:PUBLISH
X-ORIGINAL-URL:https://acwm.org
X-WR-CALDESC:Events for American Civil War Museum
REFRESH-INTERVAL;VALUE=DURATION:PT1H
X-Robots-Tag:noindex
X-PUBLISHED-TTL:PT1H
BEGIN:VTIMEZONE
TZID:America/New_York
BEGIN:DAYLIGHT
TZOFFSETFROM:-0500
TZOFFSETTO:-0400
TZNAME:EDT
DTSTART:20240310T070000
END:DAYLIGHT
BEGIN:STANDARD
TZOFFSETFROM:-0400
TZOFFSETTO:-0500
TZNAME:EST
DTSTART:20241103T060000
END:STANDARD
BEGIN:DAYLIGHT
TZOFFSETFROM:-0500
TZOFFSETTO:-0400
TZNAME:EDT
DTSTART:20250309T070000
END:DAYLIGHT
BEGIN:STANDARD
TZOFFSETFROM:-0400
TZOFFSETTO:-0500
TZNAME:EST
DTSTART:20251102T060000
END:STANDARD
BEGIN:DAYLIGHT
TZOFFSETFROM:-0500
TZOFFSETTO:-0400
TZNAME:EDT
DTSTART:20260308T070000
END:DAYLIGHT
BEGIN:STANDARD
TZOFFSETFROM:-0400
TZOFFSETTO:-0500
TZNAME:EST
DTSTART:20261101T060000
END:STANDARD
END:VTIMEZONE
BEGIN:VEVENT
DTSTART;TZID=America/New_York:20250222T090000
DTEND;TZID=America/New_York:20250222T170000
DTSTAMP:20260421T163041
CREATED:20241212T034600Z
LAST-MODIFIED:20250218T192518Z
UID:10000998-1740214800-1740243600@acwm.org
SUMMARY:2025 Symposium: 'On the Battlefield' *this event is now only on Saturday 2/22/25
DESCRIPTION:2025 ACWM Symposium: On the Battlefield includes: \n\n\n\n \n\n\n\nSaturday\, February 22nd – Esteemed historians discussing the course of the Civil War \n\n\n\n\n\n\n\n\nFind out more!
URL:https://acwm.org/event/2025-symposium-on-the-battlefield-two-day-event-february-21-22/
LOCATION:ACWM – Historic Tredegar\, 480 Tredegar St.\, Richmond\, Virginia\, 23219\, United States
CATEGORIES:Richmond Events,Symposium
ATTACH;FMTTYPE=image/jpeg:https://acwm.org/wp-content/uploads/2024Symposium_website-header-5-scaled.jpg
END:VEVENT
END:VCALENDAR