BEGIN:VCALENDAR
VERSION:2.0
PRODID:-//American Civil War Museum - ECPv6.15.12.2//NONSGML v1.0//EN
CALSCALE:GREGORIAN
METHOD:PUBLISH
X-ORIGINAL-URL:https://acwm.org
X-WR-CALDESC:Events for American Civil War Museum
REFRESH-INTERVAL;VALUE=DURATION:PT1H
X-Robots-Tag:noindex
X-PUBLISHED-TTL:PT1H
BEGIN:VTIMEZONE
TZID:America/New_York
BEGIN:DAYLIGHT
TZOFFSETFROM:-0500
TZOFFSETTO:-0400
TZNAME:EDT
DTSTART:20240310T070000
END:DAYLIGHT
BEGIN:STANDARD
TZOFFSETFROM:-0400
TZOFFSETTO:-0500
TZNAME:EST
DTSTART:20241103T060000
END:STANDARD
BEGIN:DAYLIGHT
TZOFFSETFROM:-0500
TZOFFSETTO:-0400
TZNAME:EDT
DTSTART:20250309T070000
END:DAYLIGHT
BEGIN:STANDARD
TZOFFSETFROM:-0400
TZOFFSETTO:-0500
TZNAME:EST
DTSTART:20251102T060000
END:STANDARD
BEGIN:DAYLIGHT
TZOFFSETFROM:-0500
TZOFFSETTO:-0400
TZNAME:EDT
DTSTART:20260308T070000
END:DAYLIGHT
BEGIN:STANDARD
TZOFFSETFROM:-0400
TZOFFSETTO:-0500
TZNAME:EST
DTSTART:20261101T060000
END:STANDARD
END:VTIMEZONE
BEGIN:VEVENT
DTSTART;TZID=America/New_York:20250227T183000
DTEND;TZID=America/New_York:20250227T193000
DTSTAMP:20260421T142407
CREATED:20250131T181447Z
LAST-MODIFIED:20250131T183107Z
UID:10001001-1740681000-1740684600@acwm.org
SUMMARY:Virtual Book Talk 'Freedom Was in Sight!' with Dr. Kate Masur
DESCRIPTION:As part of the ACWM celebration of Black History Month\, we present this virtual program with Dr. Kate Masur\, a leading historian of Reconstruction and Pulitzer Prize-finalist\, as she shares from her most recent book\, Freedom Was in Sight! This graphic history\, vividly drawn by award-winning artist Liz Clarke\, uses the words and experiences of Black Americans in Washington\, D.C. and surrounding areas to tell the story of the post-Civil War era\, exploring how people worked to reunite their families\, build communities\, and claim rights long denied them. \n\n\n\n\n\n\n\n\n\n\nregister
URL:https://acwm.org/event/virtual-book-talk-freedom-was-in-sight-with-dr-kate-masur/
CATEGORIES:Book Talk,Virtual Programs
ATTACH;FMTTYPE=image/png:https://acwm.org/wp-content/uploads/Masur_freedom-in-sight_2160x1080.png
END:VEVENT
END:VCALENDAR