BEGIN:VCALENDAR
VERSION:2.0
PRODID:-//American Civil War Museum - ECPv6.15.12.2//NONSGML v1.0//EN
CALSCALE:GREGORIAN
METHOD:PUBLISH
X-ORIGINAL-URL:https://acwm.org
X-WR-CALDESC:Events for American Civil War Museum
REFRESH-INTERVAL;VALUE=DURATION:PT1H
X-Robots-Tag:noindex
X-PUBLISHED-TTL:PT1H
BEGIN:VTIMEZONE
TZID:America/New_York
BEGIN:DAYLIGHT
TZOFFSETFROM:-0500
TZOFFSETTO:-0400
TZNAME:EDT
DTSTART:20240310T070000
END:DAYLIGHT
BEGIN:STANDARD
TZOFFSETFROM:-0400
TZOFFSETTO:-0500
TZNAME:EST
DTSTART:20241103T060000
END:STANDARD
BEGIN:DAYLIGHT
TZOFFSETFROM:-0500
TZOFFSETTO:-0400
TZNAME:EDT
DTSTART:20250309T070000
END:DAYLIGHT
BEGIN:STANDARD
TZOFFSETFROM:-0400
TZOFFSETTO:-0500
TZNAME:EST
DTSTART:20251102T060000
END:STANDARD
BEGIN:DAYLIGHT
TZOFFSETFROM:-0500
TZOFFSETTO:-0400
TZNAME:EDT
DTSTART:20260308T070000
END:DAYLIGHT
BEGIN:STANDARD
TZOFFSETFROM:-0400
TZOFFSETTO:-0500
TZNAME:EST
DTSTART:20261101T060000
END:STANDARD
END:VTIMEZONE
BEGIN:VEVENT
DTSTART;TZID=America/New_York:20250412T090000
DTEND;TZID=America/New_York:20250413T170000
DTSTAMP:20260421T124846
CREATED:20250310T140339Z
LAST-MODIFIED:20250314T170127Z
UID:10001008-1744448400-1744563600@acwm.org
SUMMARY:Surrender Commemoration & Freedom Day Celebration
DESCRIPTION:The American Civil War Museum is hosting a series of activities and programs as part of the regional celebration of the Commemoration of the Surrender & Freedom Day. Visitors can look forward to a fun-filled day with cannon firings\, interactive sessions with living historians\, and informative sessions about the lives of soldiers\, civilians on the homefront\, and enslaved and free African Americans during the Civil War. \n\n\n\nWe hope you will join us on April 12th and 13th at ACWM – Appomattox! \n\n\n\nSaturday: \n\n\n\n\n9:00 AM – Federal and Confederate Encampments Open\n\n\n\n10:00 AM – 5:00 PM – Cabin Open: (Interpretation provided by the Pallas Athena Ladies Aid Society)\n\n\n\n11:00 AM – “In the nick of time”: U.S. Army of the James Arrives on the Field \n\nLocation: Cabin Field\n\n\n\n\n\n2:00 PM – “Boys\, get up\, the rebs are on us”: The Fate of the 11th Maine Infantry \n\nLocation: Cabin Field \n\n\n\n\n\n4:00 PM – Stacking of Arms\n\nLocation: The Garland Gray Terrace behind Museum\n\n\n\n\n\n\nSunday: \n\n\n\n\n9:00 AM – Federal and Confederate Encampments Open  \n\n\n\n10:00AM – 3:00PM – Cabin Open: (Interpretation provided by the Pallas Athena Ladies Aid Society)\n\n\n\n10:30 AM – Civil War Sunday Service with a USCT Chaplain\n\n\n\n11:00 AM – Cannon Firing Demonstration  \n\n\n\n11:30 AM – “Hold the enemy in check”: Captain Wilson Jenkins Makes a Last Stand\n\nLocation: Cabin Field \n\n\n\n\n\n12:30 PM – Life of a USCT Chaplain with Joseph Feaster\n\n\n\n1:00 PM – Cannon Firing Demonstration \n\nLocation: Portico off the Robertson Family Education Center    \n\n\n\n\n\n1:30 PM – Stacking of Arms \n\nLocation: The Garland Gray Terrace behind Museum \n\n\n\n\n\n2:00 PM – “A King’s Cure” Lecture with Michael Vorenberg\, Ph.D. \n\nSeparate registration needed or included in Museum ticket!\n\n\n\nLocation: Robertson Family Education Center \n\n\n\n\n\n3:00 PM – Cannon Firing Demonstration \n\nLocation: Portico off the Robertson Family Education Center  Location: Cabin Field \n\n\n\n\n\n3:30 PM – Life of a USCT Chaplain with Joseph Feaster
URL:https://acwm.org/event/surrender-commemoration-freedom-day-celebration/
LOCATION:American Civil War Museum – Appomattox\, 159 Horseshoe Rd\, Appomattox\, Virginia\, 24522\, United States
CATEGORIES:Appomattox Events
ATTACH;FMTTYPE=image/avif:https://acwm.org/wp-content/uploads/https___cdn.evbuc_.com_images_977351423_394202470645_1_original.avif
END:VEVENT
END:VCALENDAR