BEGIN:VCALENDAR
VERSION:2.0
PRODID:-//American Civil War Museum - ECPv6.15.12.2//NONSGML v1.0//EN
CALSCALE:GREGORIAN
METHOD:PUBLISH
X-WR-CALNAME:American Civil War Museum
X-ORIGINAL-URL:https://acwm.org
X-WR-CALDESC:Events for American Civil War Museum
REFRESH-INTERVAL;VALUE=DURATION:PT1H
X-Robots-Tag:noindex
X-PUBLISHED-TTL:PT1H
BEGIN:VTIMEZONE
TZID:America/New_York
BEGIN:DAYLIGHT
TZOFFSETFROM:-0500
TZOFFSETTO:-0400
TZNAME:EDT
DTSTART:20240310T070000
END:DAYLIGHT
BEGIN:STANDARD
TZOFFSETFROM:-0400
TZOFFSETTO:-0500
TZNAME:EST
DTSTART:20241103T060000
END:STANDARD
BEGIN:DAYLIGHT
TZOFFSETFROM:-0500
TZOFFSETTO:-0400
TZNAME:EDT
DTSTART:20250309T070000
END:DAYLIGHT
BEGIN:STANDARD
TZOFFSETFROM:-0400
TZOFFSETTO:-0500
TZNAME:EST
DTSTART:20251102T060000
END:STANDARD
BEGIN:DAYLIGHT
TZOFFSETFROM:-0500
TZOFFSETTO:-0400
TZNAME:EDT
DTSTART:20260308T070000
END:DAYLIGHT
BEGIN:STANDARD
TZOFFSETFROM:-0400
TZOFFSETTO:-0500
TZNAME:EST
DTSTART:20261101T060000
END:STANDARD
END:VTIMEZONE
BEGIN:VEVENT
DTSTART;TZID=America/New_York:20250627T100000
DTEND;TZID=America/New_York:20250627T113000
DTSTAMP:20260421T091313
CREATED:20250509T150202Z
LAST-MODIFIED:20250602T161537Z
UID:10001020-1751018400-1751023800@acwm.org
SUMMARY:Resistance and Freedom in Richmond’s Court End (June 6\, 13\, 20\, 27)
DESCRIPTION:Every Friday in June! 10am-11:30am \n\n\n\nStep into Richmond’s Court End and uncover the powerful stories of urban slavery\, resistance\, and resilience. This guided tour begins at the John Marshall House and continues to the White House of the Confederacy\, offering a glimpse into 19th-century life and the fight for emancipation. A first floor exploration of both houses will be included. \n\n\n\nTour starts at The John Marshall House:818 East Marshall Street Richmond\, VA 23219
URL:https://acwm.org/event/resistance-and-freedom-in-richmonds-court-end-june-6-13-20-27-2/
CATEGORIES:Richmond Events
ATTACH;FMTTYPE=image/jpeg:https://acwm.org/wp-content/uploads/JohnMarhsallWHOC_JointTour_June2025.jpg
END:VEVENT
END:VCALENDAR