BEGIN:VCALENDAR
VERSION:2.0
PRODID:-//American Civil War Museum - ECPv6.15.12.2//NONSGML v1.0//EN
CALSCALE:GREGORIAN
METHOD:PUBLISH
X-ORIGINAL-URL:https://acwm.org
X-WR-CALDESC:Events for American Civil War Museum
REFRESH-INTERVAL;VALUE=DURATION:PT1H
X-Robots-Tag:noindex
X-PUBLISHED-TTL:PT1H
BEGIN:VTIMEZONE
TZID:America/New_York
BEGIN:DAYLIGHT
TZOFFSETFROM:-0500
TZOFFSETTO:-0400
TZNAME:EDT
DTSTART:20240310T070000
END:DAYLIGHT
BEGIN:STANDARD
TZOFFSETFROM:-0400
TZOFFSETTO:-0500
TZNAME:EST
DTSTART:20241103T060000
END:STANDARD
BEGIN:DAYLIGHT
TZOFFSETFROM:-0500
TZOFFSETTO:-0400
TZNAME:EDT
DTSTART:20250309T070000
END:DAYLIGHT
BEGIN:STANDARD
TZOFFSETFROM:-0400
TZOFFSETTO:-0500
TZNAME:EST
DTSTART:20251102T060000
END:STANDARD
BEGIN:DAYLIGHT
TZOFFSETFROM:-0500
TZOFFSETTO:-0400
TZNAME:EDT
DTSTART:20260308T070000
END:DAYLIGHT
BEGIN:STANDARD
TZOFFSETFROM:-0400
TZOFFSETTO:-0500
TZNAME:EST
DTSTART:20261101T060000
END:STANDARD
END:VTIMEZONE
BEGIN:VEVENT
DTSTART;TZID=America/New_York:20250730T173000
DTEND;TZID=America/New_York:20250730T190000
DTSTAMP:20260421T053120
CREATED:20250627T191220Z
LAST-MODIFIED:20250718T185019Z
UID:10001031-1753896600-1753902000@acwm.org
SUMMARY:Wine Down Wednesday
DESCRIPTION:First drink is on us! Courtesy of Virago Spirits! \n\n\n\nUnwind after a long workday with stunning views of the James River at Wine Down Wednesday! Join us for an evening of relaxation\, live music\, and light refreshments inside the American Civil War Museum – Tredegar. \n\n\n\nEnjoy a drink in hand\, great company\, and a laid-back atmosphere surrounded by history – all exhibits will be open! \n\n\n\n \n\n\n\nMuseum Members receive a complimentary drink ticket — just our way of saying thank you! \n\n\n\n \n\n\n\nWhat to Expect: \n\n\n\n\nDrinks by Virago Spirits: wine\, cocktails\, & more available for purchase (first drink is free)\n\n\n\nLive local music to set the mood\n\n\n\nLight refreshments provided\n\n\n\nA scenic and historic setting right by the James River\n\n\n\n\nPerfect for history lovers\, museum-goers\, and anyone in need of a midweek break.  \n\n\n\n(Mark your calendar: Wine Down Wednesday returns July 30 & August 27!) \n\n\n\n(This is a 21+ event)
URL:https://acwm.org/event/wine-down-wednesday-3/
CATEGORIES:Richmond Events
ATTACH;FMTTYPE=image/jpeg:https://acwm.org/wp-content/uploads/WDW-July2025-website2-scaled.jpg
END:VEVENT
END:VCALENDAR