BEGIN:VCALENDAR
VERSION:2.0
PRODID:-//American Civil War Museum - ECPv6.15.12.2//NONSGML v1.0//EN
CALSCALE:GREGORIAN
METHOD:PUBLISH
X-ORIGINAL-URL:https://acwm.org
X-WR-CALDESC:Events for American Civil War Museum
REFRESH-INTERVAL;VALUE=DURATION:PT1H
X-Robots-Tag:noindex
X-PUBLISHED-TTL:PT1H
BEGIN:VTIMEZONE
TZID:America/New_York
BEGIN:DAYLIGHT
TZOFFSETFROM:-0500
TZOFFSETTO:-0400
TZNAME:EDT
DTSTART:20240310T070000
END:DAYLIGHT
BEGIN:STANDARD
TZOFFSETFROM:-0400
TZOFFSETTO:-0500
TZNAME:EST
DTSTART:20241103T060000
END:STANDARD
BEGIN:DAYLIGHT
TZOFFSETFROM:-0500
TZOFFSETTO:-0400
TZNAME:EDT
DTSTART:20250309T070000
END:DAYLIGHT
BEGIN:STANDARD
TZOFFSETFROM:-0400
TZOFFSETTO:-0500
TZNAME:EST
DTSTART:20251102T060000
END:STANDARD
BEGIN:DAYLIGHT
TZOFFSETFROM:-0500
TZOFFSETTO:-0400
TZNAME:EDT
DTSTART:20260308T070000
END:DAYLIGHT
BEGIN:STANDARD
TZOFFSETFROM:-0400
TZOFFSETTO:-0500
TZNAME:EST
DTSTART:20261101T060000
END:STANDARD
END:VTIMEZONE
BEGIN:VEVENT
DTSTART;TZID=America/New_York:20250801T110000
DTEND;TZID=America/New_York:20250902T160000
DTSTAMP:20260421T053033
CREATED:20250618T144112Z
LAST-MODIFIED:20250903T130610Z
UID:10001029-1754046000-1756828800@acwm.org
SUMMARY:Daily Programs!
DESCRIPTION:Have a blast this summer with special events and guided tours included with museum admission! \n\n\n\nEver wonder what the life of the everyday soldier was like during the Civil War? How do cannons work? Why was the Tredegar site so important during the Civil War? Join museum historians as they demonstrate a musket firing\, how cannons work and the incredible history of the iconic Tredegar Ironworks! \n\n\n\nOur special daily events: \n\n\n\n\nTredegar History Tour / daily at 11 am and 3 pm:\n\nGuided tour with a museum historian around the former Tredegar Ironworks site.\n\n\n\n\n\nThe Common Soldier program with musket firing demonstration/ daily at 12:30 pm:\n\nHistory interpreters present a hands-on demonstration of the life of a regular enlisted Civil War soldier.\n\n\n\n\n\nCannon Ball! / Saturdays & Sundays at 2 pm:\n\nHistory interpreter presentation on the process of loading and firing a cannon.\n\n\n\nDon’t worry\, though we have authentic cannons\, none will be fired during the demonstration!\n\n\n\n\n\n\nThese programs are included with museum admission – enjoy one or come for all. We hope to see you at Tredegar this summer!
URL:https://acwm.org/event/summer-programs-daily/
CATEGORIES:Richmond Events
ATTACH;FMTTYPE=image/png:https://acwm.org/wp-content/uploads/Untitled-design-1.png
END:VEVENT
BEGIN:VEVENT
DTSTART;TZID=America/New_York:20250821T183000
DTEND;TZID=America/New_York:20250821T193000
DTSTAMP:20260421T053033
CREATED:20250711T154617Z
LAST-MODIFIED:20250728T204133Z
UID:10001043-1755801000-1755804600@acwm.org
SUMMARY:Virtual Book Talk
DESCRIPTION:While largely overlooked or treated as a footnote to Gen. Jubal A. Early’s raid on Washington in the summer of 1864\, the fight at Cool Spring—characterized by one soldier as “a sharp and obstinate affair”—proved critical to Washington’s immediate safety. It became a transformative moment for those who fought along the banks of the Shenandoah River. Join us as Jonathan A. Noyalas analyzes the decisions of leaders on both sides\, explores the environment’s impact on the battle\, and investigates how the combat impacted the soldiers and their families \n\n\n\nJonathan A. Noyalas is a history professor at Shenandoah University and director of its McCormick Civil War Institute. He is the author or editor of fifteen books. Noyalas is the recipient of numerous awards for his teaching and scholarship including the State Council for Higher Education in Virginia’s Outstanding Faculty Award.
URL:https://acwm.org/event/virtual-book-talk/
CATEGORIES:Virtual Programs
ATTACH;FMTTYPE=image/jpeg:https://acwm.org/wp-content/uploads/Noyalas_blood-tinted_8.21.25_web-scaled.jpg
END:VEVENT
END:VCALENDAR