BEGIN:VCALENDAR
VERSION:2.0
PRODID:-//American Civil War Museum - ECPv6.15.12.2//NONSGML v1.0//EN
CALSCALE:GREGORIAN
METHOD:PUBLISH
X-WR-CALNAME:American Civil War Museum
X-ORIGINAL-URL:https://acwm.org
X-WR-CALDESC:Events for American Civil War Museum
REFRESH-INTERVAL;VALUE=DURATION:PT1H
X-Robots-Tag:noindex
X-PUBLISHED-TTL:PT1H
BEGIN:VTIMEZONE
TZID:America/New_York
BEGIN:DAYLIGHT
TZOFFSETFROM:-0500
TZOFFSETTO:-0400
TZNAME:EDT
DTSTART:20250309T070000
END:DAYLIGHT
BEGIN:STANDARD
TZOFFSETFROM:-0400
TZOFFSETTO:-0500
TZNAME:EST
DTSTART:20251102T060000
END:STANDARD
BEGIN:DAYLIGHT
TZOFFSETFROM:-0500
TZOFFSETTO:-0400
TZNAME:EDT
DTSTART:20260308T070000
END:DAYLIGHT
BEGIN:STANDARD
TZOFFSETFROM:-0400
TZOFFSETTO:-0500
TZNAME:EST
DTSTART:20261101T060000
END:STANDARD
BEGIN:DAYLIGHT
TZOFFSETFROM:-0500
TZOFFSETTO:-0400
TZNAME:EDT
DTSTART:20270314T070000
END:DAYLIGHT
BEGIN:STANDARD
TZOFFSETFROM:-0400
TZOFFSETTO:-0500
TZNAME:EST
DTSTART:20271107T060000
END:STANDARD
END:VTIMEZONE
BEGIN:VEVENT
DTSTART;TZID=America/New_York:20260326T180000
DTEND;TZID=America/New_York:20260326T200000
DTSTAMP:20260420T160427
CREATED:20260309T160509Z
LAST-MODIFIED:20260309T160512Z
UID:10001081-1774548000-1774555200@acwm.org
SUMMARY:Our Fathers Brought Forth: Lincoln’s Gratitude in the Gettysburg Address
DESCRIPTION:Join us for Dr. Lang’s talk on March 26 at 6pm! \n\n\n\nReflecting on Lincoln and the ancient virtue of gratitude\, Dr. Andrew F. Lang discusses Lincoln’s rhetoric within the political and military contexts of 1863 and makes connections to the past and future. \n\n\n\n \n\n\n\nMembers Reception at 5 pm
URL:https://acwm.org/event/our-fathers-brought-forth-lincolns-gratitude-in-the-gettysburg-address/
CATEGORIES:Book Talk,For Educators,For Students,Lectures,Richmond Events,Tours
ATTACH;FMTTYPE=image/jpeg:https://acwm.org/wp-content/uploads/Lang_Lincoln-Gburg_3.2026-web2-1-scaled.jpg
END:VEVENT
END:VCALENDAR