BEGIN:VCALENDAR
VERSION:2.0
PRODID:-//American Civil War Museum - ECPv6.15.12.2//NONSGML v1.0//EN
CALSCALE:GREGORIAN
METHOD:PUBLISH
X-WR-CALNAME:American Civil War Museum
X-ORIGINAL-URL:https://acwm.org
X-WR-CALDESC:Events for American Civil War Museum
REFRESH-INTERVAL;VALUE=DURATION:PT1H
X-Robots-Tag:noindex
X-PUBLISHED-TTL:PT1H
BEGIN:VTIMEZONE
TZID:America/New_York
BEGIN:DAYLIGHT
TZOFFSETFROM:-0500
TZOFFSETTO:-0400
TZNAME:EDT
DTSTART:20250309T070000
END:DAYLIGHT
BEGIN:STANDARD
TZOFFSETFROM:-0400
TZOFFSETTO:-0500
TZNAME:EST
DTSTART:20251102T060000
END:STANDARD
BEGIN:DAYLIGHT
TZOFFSETFROM:-0500
TZOFFSETTO:-0400
TZNAME:EDT
DTSTART:20260308T070000
END:DAYLIGHT
BEGIN:STANDARD
TZOFFSETFROM:-0400
TZOFFSETTO:-0500
TZNAME:EST
DTSTART:20261101T060000
END:STANDARD
BEGIN:DAYLIGHT
TZOFFSETFROM:-0500
TZOFFSETTO:-0400
TZNAME:EDT
DTSTART:20270314T070000
END:DAYLIGHT
BEGIN:STANDARD
TZOFFSETFROM:-0400
TZOFFSETTO:-0500
TZNAME:EST
DTSTART:20271107T060000
END:STANDARD
END:VTIMEZONE
BEGIN:VEVENT
DTSTART;TZID=America/New_York:20260401T100000
DTEND;TZID=America/New_York:20260401T120000
DTSTAMP:20260420T141107
CREATED:20260310T154935Z
LAST-MODIFIED:20260310T154938Z
UID:10001084-1775037600-1775044800@acwm.org
SUMMARY:Civil War Espionage
DESCRIPTION:Mornings at the Museum are BACK this Spring Break! \n\n\n\nRichmond was an active site for spies during the Civil War. Join us to decrypt and create secret codes and find out about some of the spies that were active during the Civil War. \n\n\n\nExplore artifacts from our handling collection that tell the story of Richmond spies like Elizabeth Van Lew & Benjamin F. Stringfellow. \n\n\n\nRecommended for children. \n\n\n\n\nFree for members!\n\n\n\nTickets include access to all exhibits.
URL:https://acwm.org/event/civil-war-espionage/
CATEGORIES:Family-Friendly,For Students,Lectures,Richmond Events,Tours
ATTACH;FMTTYPE=image/jpeg:https://acwm.org/wp-content/uploads/mornings-museum_web-scaled.jpg
END:VEVENT
END:VCALENDAR