BEGIN:VCALENDAR
VERSION:2.0
PRODID:-//American Civil War Museum - ECPv6.15.12.2//NONSGML v1.0//EN
CALSCALE:GREGORIAN
METHOD:PUBLISH
X-ORIGINAL-URL:https://acwm.org
X-WR-CALDESC:Events for American Civil War Museum
REFRESH-INTERVAL;VALUE=DURATION:PT1H
X-Robots-Tag:noindex
X-PUBLISHED-TTL:PT1H
BEGIN:VTIMEZONE
TZID:America/New_York
BEGIN:DAYLIGHT
TZOFFSETFROM:-0500
TZOFFSETTO:-0400
TZNAME:EDT
DTSTART:20250309T070000
END:DAYLIGHT
BEGIN:STANDARD
TZOFFSETFROM:-0400
TZOFFSETTO:-0500
TZNAME:EST
DTSTART:20251102T060000
END:STANDARD
BEGIN:DAYLIGHT
TZOFFSETFROM:-0500
TZOFFSETTO:-0400
TZNAME:EDT
DTSTART:20260308T070000
END:DAYLIGHT
BEGIN:STANDARD
TZOFFSETFROM:-0400
TZOFFSETTO:-0500
TZNAME:EST
DTSTART:20261101T060000
END:STANDARD
BEGIN:DAYLIGHT
TZOFFSETFROM:-0500
TZOFFSETTO:-0400
TZNAME:EDT
DTSTART:20270314T070000
END:DAYLIGHT
BEGIN:STANDARD
TZOFFSETFROM:-0400
TZOFFSETTO:-0500
TZNAME:EST
DTSTART:20271107T060000
END:STANDARD
END:VTIMEZONE
BEGIN:VEVENT
DTSTART;TZID=America/New_York:20260427T180000
DTEND;TZID=America/New_York:20260427T200000
DTSTAMP:20260420T141657
CREATED:20260309T162229Z
LAST-MODIFIED:20260309T162232Z
UID:10001082-1777312800-1777320000@acwm.org
SUMMARY:Why Gettysburg Matters
DESCRIPTION:Why has Gettysburg always been the Civil War’s most famous battle and how has it shaped American national identity? In this talk\, professor of U.S. political history Adam Smith argues that ever since the news of Confederate defeat spread on July 4\, 1863\, Gettysburg has been imagined as a place of national “rebirth”. In its own way\, it has been — and continues to be — as vital to the story of American nationhood as anything that happened in the Revolution. \n\n\n\nMembers Reception at 5 pm
URL:https://acwm.org/event/why-gettysburg-matters/
CATEGORIES:For Educators,For Students,Lectures,Richmond Events,Tours
ATTACH;FMTTYPE=image/jpeg:https://acwm.org/wp-content/uploads/Smith_Gburg_4.2026-web2-1-scaled.jpg
END:VEVENT
END:VCALENDAR