BEGIN:VCALENDAR
VERSION:2.0
PRODID:-//American Civil War Museum - ECPv6.15.12.2//NONSGML v1.0//EN
CALSCALE:GREGORIAN
METHOD:PUBLISH
X-WR-CALNAME:American Civil War Museum
X-ORIGINAL-URL:https://acwm.org
X-WR-CALDESC:Events for American Civil War Museum
REFRESH-INTERVAL;VALUE=DURATION:PT1H
X-Robots-Tag:noindex
X-PUBLISHED-TTL:PT1H
BEGIN:VTIMEZONE
TZID:America/New_York
BEGIN:DAYLIGHT
TZOFFSETFROM:-0500
TZOFFSETTO:-0400
TZNAME:EDT
DTSTART:20230312T070000
END:DAYLIGHT
BEGIN:STANDARD
TZOFFSETFROM:-0400
TZOFFSETTO:-0500
TZNAME:EST
DTSTART:20231105T060000
END:STANDARD
BEGIN:DAYLIGHT
TZOFFSETFROM:-0500
TZOFFSETTO:-0400
TZNAME:EDT
DTSTART:20240310T070000
END:DAYLIGHT
BEGIN:STANDARD
TZOFFSETFROM:-0400
TZOFFSETTO:-0500
TZNAME:EST
DTSTART:20241103T060000
END:STANDARD
BEGIN:DAYLIGHT
TZOFFSETFROM:-0500
TZOFFSETTO:-0400
TZNAME:EDT
DTSTART:20250309T070000
END:DAYLIGHT
BEGIN:STANDARD
TZOFFSETFROM:-0400
TZOFFSETTO:-0500
TZNAME:EST
DTSTART:20251102T060000
END:STANDARD
END:VTIMEZONE
BEGIN:VEVENT
DTSTART;TZID=America/New_York:20240509T180000
DTEND;TZID=America/New_York:20240509T190000
DTSTAMP:20260423T162733
CREATED:20240412T194432Z
LAST-MODIFIED:20240412T194439Z
UID:10000191-1715277600-1715281200@acwm.org
SUMMARY:"The Unvanquished" with Patrick O'Donnell
DESCRIPTION:The Unvanquished: The Untold Story of Lincoln’s Special Forces\, the Manhunt for Mosby’s Rangers\, and the Shadow War That Forged America’s Special Operations\n\n\n\n\nThe Civil War is famously known for the huge battles that defined it such as Gettysburg\, Antietam\, and Shiloh. However\, bestselling author Patrick K. O’Donnell reveals in his book The Unvanquished that there was a crucial shadow war that took place amid and away from the major battlefields\, which was in many ways just as consequential to the conflict’s outcome. At the center of this groundbreaking narrative is the remarkable story of Lincoln’s special forces – the Jessie Scouts – told in its entirety for the first time. \n\n\n\nPatrick K. O’Donnell is a bestselling\, critically acclaimed military historian and an expert on elite units. The author of thirteen books\, including The Indispensables\, The Unknowns\, and Washington’s Immortals\, he is the recipient of numerous national awards. O’Donnell served as a combat historian in a Marine rifle platoon during the Battle of Fallujah and is a professional speaker on America’s conflicts\, espionage\, special operations\, and counterinsurgency. He has provided historical consulting for DreamWorks’ award-winning miniseries Band of Brothers and for documentaries produced by the BBC\, the History Channel\, and Discovery. \n\n\n\n\n\n\n\nALL SALES ARE FINAL. TICKETS AND REGISTRATIONS ARE NON-REFUNDABLE UNLESS THE AMERICAN CIVIL WAR MUSEUM CANCELS AN EVENT.\n\n\nRegister on Eventbrite
URL:https://acwm.org/event/the-unvanquished/
LOCATION:American Civil War Museum – Appomattox\, 159 Horseshoe Rd\, Appomattox\, Virginia\, 24522\, United States
CATEGORIES:Appomattox Events,Book Talk
ATTACH;FMTTYPE=image/png:https://acwm.org/wp-content/uploads/the-unvanquished.png
END:VEVENT
END:VCALENDAR