BEGIN:VCALENDAR
VERSION:2.0
PRODID:-//American Civil War Museum - ECPv6.15.12.2//NONSGML v1.0//EN
CALSCALE:GREGORIAN
METHOD:PUBLISH
X-WR-CALNAME:American Civil War Museum
X-ORIGINAL-URL:https://acwm.org
X-WR-CALDESC:Events for American Civil War Museum
REFRESH-INTERVAL;VALUE=DURATION:PT1H
X-Robots-Tag:noindex
X-PUBLISHED-TTL:PT1H
BEGIN:VTIMEZONE
TZID:America/New_York
BEGIN:DAYLIGHT
TZOFFSETFROM:-0500
TZOFFSETTO:-0400
TZNAME:EDT
DTSTART:20240310T070000
END:DAYLIGHT
BEGIN:STANDARD
TZOFFSETFROM:-0400
TZOFFSETTO:-0500
TZNAME:EST
DTSTART:20241103T060000
END:STANDARD
BEGIN:DAYLIGHT
TZOFFSETFROM:-0500
TZOFFSETTO:-0400
TZNAME:EDT
DTSTART:20250309T070000
END:DAYLIGHT
BEGIN:STANDARD
TZOFFSETFROM:-0400
TZOFFSETTO:-0500
TZNAME:EST
DTSTART:20251102T060000
END:STANDARD
BEGIN:DAYLIGHT
TZOFFSETFROM:-0500
TZOFFSETTO:-0400
TZNAME:EDT
DTSTART:20260308T070000
END:DAYLIGHT
BEGIN:STANDARD
TZOFFSETFROM:-0400
TZOFFSETTO:-0500
TZNAME:EST
DTSTART:20261101T060000
END:STANDARD
END:VTIMEZONE
BEGIN:VEVENT
DTSTART;TZID=America/New_York:20250814T180000
DTEND;TZID=America/New_York:20250814T193000
DTSTAMP:20260422T160610
CREATED:20250710T202617Z
LAST-MODIFIED:20250805T163241Z
UID:10001042-1755194400-1755199800@acwm.org
SUMMARY:"Yankees In the Hill City" Book Talk at ACWM-Appomattox
DESCRIPTION:With three railroads and the James River Canal passing through the city\, Lynchburg\, Virginia\, was a major confederate hospital center and supply hub during the American Civil War. However\, a much less explored aspect of the city’s history is its transit prisoner of war camp that was located at the Fair Ground between 1862 to 1865. \n\n\n\nJoin us on Thursday\, August 14th\, as Dr. Clifton W. Potter\, author and Professor of History\, Emeritus from the University of Lynchburg\, presents on his most recent book\, “Yankees in the Hill City: The Union Prisoner of War Camp in Lynchburg\, Virginia\, 1862-1865.” The lecture begins at 6:00 pm\, followed by a question-and-answer session and book signing by Dr. Potter. Copies of “Yankees in the Hill City” will be available for purchase in the museum shop.
URL:https://acwm.org/event/yankees-in-the-hill-city-book-talk-at-acwm-appomattox/
CATEGORIES:Appomattox Events
ATTACH;FMTTYPE=image/jpeg:https://acwm.org/wp-content/uploads/Potter_Yankees-POW_8.14.25_web-scaled.jpg
END:VEVENT
END:VCALENDAR