BEGIN:VCALENDAR
VERSION:2.0
PRODID:-//American Civil War Museum - ECPv6.15.12.2//NONSGML v1.0//EN
CALSCALE:GREGORIAN
METHOD:PUBLISH
X-WR-CALNAME:American Civil War Museum
X-ORIGINAL-URL:https://acwm.org
X-WR-CALDESC:Events for American Civil War Museum
REFRESH-INTERVAL;VALUE=DURATION:PT1H
X-Robots-Tag:noindex
X-PUBLISHED-TTL:PT1H
BEGIN:VTIMEZONE
TZID:America/New_York
BEGIN:DAYLIGHT
TZOFFSETFROM:-0500
TZOFFSETTO:-0400
TZNAME:EDT
DTSTART:20240310T070000
END:DAYLIGHT
BEGIN:STANDARD
TZOFFSETFROM:-0400
TZOFFSETTO:-0500
TZNAME:EST
DTSTART:20241103T060000
END:STANDARD
BEGIN:DAYLIGHT
TZOFFSETFROM:-0500
TZOFFSETTO:-0400
TZNAME:EDT
DTSTART:20250309T070000
END:DAYLIGHT
BEGIN:STANDARD
TZOFFSETFROM:-0400
TZOFFSETTO:-0500
TZNAME:EST
DTSTART:20251102T060000
END:STANDARD
BEGIN:DAYLIGHT
TZOFFSETFROM:-0500
TZOFFSETTO:-0400
TZNAME:EDT
DTSTART:20260308T070000
END:DAYLIGHT
BEGIN:STANDARD
TZOFFSETFROM:-0400
TZOFFSETTO:-0500
TZNAME:EST
DTSTART:20261101T060000
END:STANDARD
END:VTIMEZONE
BEGIN:VEVENT
DTSTART;TZID=America/New_York:20250919T170000
DTEND;TZID=America/New_York:20250919T190000
DTSTAMP:20260422T095216
CREATED:20250815T205050Z
LAST-MODIFIED:20250826T203616Z
UID:10001046-1758301200-1758308400@acwm.org
SUMMARY:Cannons & Cocktails
DESCRIPTION:Let’s celebrate a great summer in Appomattox with a cannon salute! Join us for a special event with cannon firing demonstrations\, live music by Daniel Kepel (the Singing Violinist) \, light snacks\, and a taste of 19th century Artillery Punch! Beer\, wine\, and soda will be available for purchase. \n\n\n\nEnjoy a fun-filled Friday night in historic Appomattox at the American Civil War Museum! \n\n\n\nCannons and Cocktails is a 21+ event and proof of age will be required at the door.
URL:https://acwm.org/event/cannons-cocktails/
CATEGORIES:Appomattox Events
ATTACH;FMTTYPE=image/jpeg:https://acwm.org/wp-content/uploads/APX_CC_9.19.25_website-scaled.jpg
END:VEVENT
END:VCALENDAR