BEGIN:VCALENDAR
VERSION:2.0
PRODID:-//American Civil War Museum - ECPv6.15.12.2//NONSGML v1.0//EN
CALSCALE:GREGORIAN
METHOD:PUBLISH
X-WR-CALNAME:American Civil War Museum
X-ORIGINAL-URL:https://acwm.org
X-WR-CALDESC:Events for American Civil War Museum
REFRESH-INTERVAL;VALUE=DURATION:PT1H
X-Robots-Tag:noindex
X-PUBLISHED-TTL:PT1H
BEGIN:VTIMEZONE
TZID:America/New_York
BEGIN:DAYLIGHT
TZOFFSETFROM:-0500
TZOFFSETTO:-0400
TZNAME:EDT
DTSTART:20240310T070000
END:DAYLIGHT
BEGIN:STANDARD
TZOFFSETFROM:-0400
TZOFFSETTO:-0500
TZNAME:EST
DTSTART:20241103T060000
END:STANDARD
BEGIN:DAYLIGHT
TZOFFSETFROM:-0500
TZOFFSETTO:-0400
TZNAME:EDT
DTSTART:20250309T070000
END:DAYLIGHT
BEGIN:STANDARD
TZOFFSETFROM:-0400
TZOFFSETTO:-0500
TZNAME:EST
DTSTART:20251102T060000
END:STANDARD
BEGIN:DAYLIGHT
TZOFFSETFROM:-0500
TZOFFSETTO:-0400
TZNAME:EDT
DTSTART:20260308T070000
END:DAYLIGHT
BEGIN:STANDARD
TZOFFSETFROM:-0400
TZOFFSETTO:-0500
TZNAME:EST
DTSTART:20261101T060000
END:STANDARD
END:VTIMEZONE
BEGIN:VEVENT
DTSTART;TZID=America/New_York:20250925T110000
DTEND;TZID=America/New_York:20250925T150000
DTSTAMP:20260422T095223
CREATED:20250826T203344Z
LAST-MODIFIED:20250826T203350Z
UID:10001048-1758798000-1758812400@acwm.org
SUMMARY:Museum School Day
DESCRIPTION:Join us for Museum School Day at the American Civil War Museum – Appomattox! It’s a special event designed for students of all ages and their families to explore Civil War history through engaging\, hands-on experiences! \n\n\n\nWhat to Expect: \n\n\n\n\nInteractive Program on 19th-Century Medicine & Surgery – Learn about Civil War-era medical practices and explore the life of a wartime nurse.\n\n\n\nHands-On Artifact Investigation – Examine real artifacts from our handling collection.\n\n\n\nExhibit Exploration & Scavenger Hunt – Dive deeper into our main gallery with a fun\, educational scavenger hunt.\n\n\n\n\nPerfect for students of all ages\, this immersive day brings history to life through stories\, objects\, and interactive learning.
URL:https://acwm.org/event/museum-school-day/
CATEGORIES:Appomattox Events,Family-Friendly,For Students
ATTACH;FMTTYPE=image/jpeg:https://acwm.org/wp-content/uploads/APX-School-Day_9.25.25_web-scaled.jpg
END:VEVENT
END:VCALENDAR