BEGIN:VCALENDAR
VERSION:2.0
PRODID:-//American Civil War Museum - ECPv6.15.12.2//NONSGML v1.0//EN
CALSCALE:GREGORIAN
METHOD:PUBLISH
X-WR-CALNAME:American Civil War Museum
X-ORIGINAL-URL:https://acwm.org
X-WR-CALDESC:Events for American Civil War Museum
REFRESH-INTERVAL;VALUE=DURATION:PT1H
X-Robots-Tag:noindex
X-PUBLISHED-TTL:PT1H
BEGIN:VTIMEZONE
TZID:America/New_York
BEGIN:DAYLIGHT
TZOFFSETFROM:-0500
TZOFFSETTO:-0400
TZNAME:EDT
DTSTART:20240310T070000
END:DAYLIGHT
BEGIN:STANDARD
TZOFFSETFROM:-0400
TZOFFSETTO:-0500
TZNAME:EST
DTSTART:20241103T060000
END:STANDARD
BEGIN:DAYLIGHT
TZOFFSETFROM:-0500
TZOFFSETTO:-0400
TZNAME:EDT
DTSTART:20250309T070000
END:DAYLIGHT
BEGIN:STANDARD
TZOFFSETFROM:-0400
TZOFFSETTO:-0500
TZNAME:EST
DTSTART:20251102T060000
END:STANDARD
BEGIN:DAYLIGHT
TZOFFSETFROM:-0500
TZOFFSETTO:-0400
TZNAME:EDT
DTSTART:20260308T070000
END:DAYLIGHT
BEGIN:STANDARD
TZOFFSETFROM:-0400
TZOFFSETTO:-0500
TZNAME:EST
DTSTART:20261101T060000
END:STANDARD
END:VTIMEZONE
BEGIN:VEVENT
DTSTART;TZID=America/New_York:20251025T100000
DTEND;TZID=America/New_York:20251025T150000
DTSTAMP:20260422T085205
CREATED:20250905T203309Z
LAST-MODIFIED:20251017T164020Z
UID:10001049-1761386400-1761404400@acwm.org
SUMMARY:Fall Festival at ACWM-Appomattox
DESCRIPTION:Celebrate the season at the 4th Annual Fall Festival hosted by the American Civil War Museum – Appomattox! This fun-filled day offers something for the entire family—set against the backdrop of history. \n\n\n\n\n\n\n\n\n\n\n\n\n\n\n\n\n\nWhat to Expect: \n\n\n\n\nLive music by Deeply Rooted & Farm Use String Band\n\n\n\nFace painting & pumpkin painting\n\n\n\nDelicious food available on-site\n\n\n\nHistoric trades & cannon firing demonstrations\n\n\n\nLocal vendors\, exhibitors\, & a silent auction\n\n\n\nTrain rides provided on the Osborne Express\n\n\n\nChildren’s crafts and corn husk doll making\n\n\n\nLecture by Patrick Schroeder: The Confederate Cemetery at Appomattox @ 1pm\n\n\n\n\n \n\n\n\n \n\n\n\nBring your friends\, pack the car\, and enjoy a festive autumn day of music\, history\, and community fun!
URL:https://acwm.org/event/fall-festival-at-acwm-appomattox-2/
CATEGORIES:Appomattox Events
ATTACH;FMTTYPE=image/jpeg:https://acwm.org/wp-content/uploads/APX-FF_2025-web-scaled.jpg
END:VEVENT
END:VCALENDAR