BEGIN:VCALENDAR
VERSION:2.0
PRODID:-//American Civil War Museum - ECPv6.15.12.2//NONSGML v1.0//EN
CALSCALE:GREGORIAN
METHOD:PUBLISH
X-ORIGINAL-URL:https://acwm.org
X-WR-CALDESC:Events for American Civil War Museum
REFRESH-INTERVAL;VALUE=DURATION:PT1H
X-Robots-Tag:noindex
X-PUBLISHED-TTL:PT1H
BEGIN:VTIMEZONE
TZID:America/New_York
BEGIN:DAYLIGHT
TZOFFSETFROM:-0500
TZOFFSETTO:-0400
TZNAME:EDT
DTSTART:20240310T070000
END:DAYLIGHT
BEGIN:STANDARD
TZOFFSETFROM:-0400
TZOFFSETTO:-0500
TZNAME:EST
DTSTART:20241103T060000
END:STANDARD
BEGIN:DAYLIGHT
TZOFFSETFROM:-0500
TZOFFSETTO:-0400
TZNAME:EDT
DTSTART:20250309T070000
END:DAYLIGHT
BEGIN:STANDARD
TZOFFSETFROM:-0400
TZOFFSETTO:-0500
TZNAME:EST
DTSTART:20251102T060000
END:STANDARD
BEGIN:DAYLIGHT
TZOFFSETFROM:-0500
TZOFFSETTO:-0400
TZNAME:EDT
DTSTART:20260308T070000
END:DAYLIGHT
BEGIN:STANDARD
TZOFFSETFROM:-0400
TZOFFSETTO:-0500
TZNAME:EST
DTSTART:20261101T060000
END:STANDARD
END:VTIMEZONE
BEGIN:VEVENT
DTSTART;TZID=America/New_York:20251213T100000
DTEND;TZID=America/New_York:20251213T150000
DTSTAMP:20260420T023114
CREATED:20251027T180815Z
LAST-MODIFIED:20251210T214136Z
UID:10001057-1765620000-1765638000@acwm.org
SUMMARY:Christmas Open House at ACWM-Appomattox
DESCRIPTION:Sip cider\, shop local\, meet Civil War Santa\, and enjoy live music at ACWM–Appomattox’s Christmas Open House!\n\n\n\nGet in some holiday shopping while enjoying hot cider\, cookies\, and Christmas crafts to keep the kids entertained. Meet and learn about the origins of Civil War Santa\, and experience the sights and sounds of a 19th-century Christmas as our reconstructed cabin comes to life with living history interpretations by the Pallas Athena Ladies Aid Society.\n\n\n\n \n\n\n\n\n\n\n\n\n\n\n\n\n\nAdditionally\, enjoy live music by Doves and Dragons throughout the day\, with special performances by the Appomattox Youth Chorale at 10:30 a.m. and 11:30 a.m.\n\n\n\nA big shout-out to all our wonderful participants and vendors joining us for this event:•Refocused•Lil Daisy Soaps•The Festive Circle•Wagon Wheel Farms LLC•Jennings Farm\, LLC•The Chaotic Paintbox LLC•The Coffee Nook – Food Truck•Amber McKinney•J Robert Jamerson Memorial Library•Appomattox-Petersburg Preservation Society•Appomattox Court House National Historical Park•Pallas Athena Ladies Aid Society•Appomattox Youth Choral•Jordan Baptist Church  \n\n\n\n\n\n\n\n\n\n\n\n\n\nWe hope you join us!\n\n\n\n(Enjoy 10% off in the gift shop / 20% off for members)
URL:https://acwm.org/event/christmas-open-house-at-acwm-appomattox/
CATEGORIES:Appomattox Events,Family-Friendly
ATTACH;FMTTYPE=image/jpeg:https://acwm.org/wp-content/uploads/APX-Xmas-2025_web-scaled.jpg
END:VEVENT
END:VCALENDAR