BEGIN:VCALENDAR
VERSION:2.0
PRODID:-//American Civil War Museum - ECPv6.15.12.2//NONSGML v1.0//EN
CALSCALE:GREGORIAN
METHOD:PUBLISH
X-ORIGINAL-URL:https://acwm.org
X-WR-CALDESC:Events for American Civil War Museum
REFRESH-INTERVAL;VALUE=DURATION:PT1H
X-Robots-Tag:noindex
X-PUBLISHED-TTL:PT1H
BEGIN:VTIMEZONE
TZID:America/New_York
BEGIN:DAYLIGHT
TZOFFSETFROM:-0500
TZOFFSETTO:-0400
TZNAME:EDT
DTSTART:20250309T070000
END:DAYLIGHT
BEGIN:STANDARD
TZOFFSETFROM:-0400
TZOFFSETTO:-0500
TZNAME:EST
DTSTART:20251102T060000
END:STANDARD
BEGIN:DAYLIGHT
TZOFFSETFROM:-0500
TZOFFSETTO:-0400
TZNAME:EDT
DTSTART:20260308T070000
END:DAYLIGHT
BEGIN:STANDARD
TZOFFSETFROM:-0400
TZOFFSETTO:-0500
TZNAME:EST
DTSTART:20261101T060000
END:STANDARD
BEGIN:DAYLIGHT
TZOFFSETFROM:-0500
TZOFFSETTO:-0400
TZNAME:EDT
DTSTART:20270314T070000
END:DAYLIGHT
BEGIN:STANDARD
TZOFFSETFROM:-0400
TZOFFSETTO:-0500
TZNAME:EST
DTSTART:20271107T060000
END:STANDARD
END:VTIMEZONE
BEGIN:VEVENT
DTSTART;TZID=America/New_York:20260502T140000
DTEND;TZID=America/New_York:20260502T160000
DTSTAMP:20260419T201017
CREATED:20260324T183248Z
LAST-MODIFIED:20260407T180731Z
UID:10001087-1777730400-1777737600@acwm.org
SUMMARY:Mother's Day Tea at ACWM Appomattox
DESCRIPTION:Celebrate Mother’s Day with afternoon tea at the American Civil War Museum – Appomattox! Treats\, tea & a floral bouquet included. \n\n\n\nJoin us to celebrate Mother’s Day with an elegant afternoon tea at The American Civil War Museum – Appomattox\, honoring the special women in your life! \n\n\n\nEnjoy a cozy afternoon filled with conversation\, delicious treats\, and classic tea traditions. Tea service\, provided by Tea to Thee\, includes a selection of savory tea sandwiches\, freshly baked scones\, and sweet desserts\, all paired with Earl Grey and Windsor Bloom teas. \n\n\n\nEach ticket also includes a custom spring bouquet from The Blossom Farm—a lovely keepsake for the day.
URL:https://acwm.org/event/mothers-day-tea/
LOCATION:ACWM Appomattox\, 159 Horseshoe Rd\, Appomattox\, VA\, 24522\, United States
CATEGORIES:Appomattox Events,Family-Friendly
ATTACH;FMTTYPE=image/jpeg:https://acwm.org/wp-content/uploads/APX-Mothers-Day-Tea_web-scaled.jpg
END:VEVENT
END:VCALENDAR