BEGIN:VCALENDAR
VERSION:2.0
PRODID:-//American Civil War Museum - ECPv6.15.12.2//NONSGML v1.0//EN
CALSCALE:GREGORIAN
METHOD:PUBLISH
X-WR-CALNAME:American Civil War Museum
X-ORIGINAL-URL:https://acwm.org
X-WR-CALDESC:Events for American Civil War Museum
REFRESH-INTERVAL;VALUE=DURATION:PT1H
X-Robots-Tag:noindex
X-PUBLISHED-TTL:PT1H
BEGIN:VTIMEZONE
TZID:America/New_York
BEGIN:DAYLIGHT
TZOFFSETFROM:-0500
TZOFFSETTO:-0400
TZNAME:EDT
DTSTART:20250309T070000
END:DAYLIGHT
BEGIN:STANDARD
TZOFFSETFROM:-0400
TZOFFSETTO:-0500
TZNAME:EST
DTSTART:20251102T060000
END:STANDARD
BEGIN:DAYLIGHT
TZOFFSETFROM:-0500
TZOFFSETTO:-0400
TZNAME:EDT
DTSTART:20260308T070000
END:DAYLIGHT
BEGIN:STANDARD
TZOFFSETFROM:-0400
TZOFFSETTO:-0500
TZNAME:EST
DTSTART:20261101T060000
END:STANDARD
BEGIN:DAYLIGHT
TZOFFSETFROM:-0500
TZOFFSETTO:-0400
TZNAME:EDT
DTSTART:20270314T070000
END:DAYLIGHT
BEGIN:STANDARD
TZOFFSETFROM:-0400
TZOFFSETTO:-0500
TZNAME:EST
DTSTART:20271107T060000
END:STANDARD
END:VTIMEZONE
BEGIN:VEVENT
DTSTART;TZID=America/New_York:20260319T183000
DTEND;TZID=America/New_York:20260319T193000
DTSTAMP:20260419T195758
CREATED:20260213T235942Z
LAST-MODIFIED:20260213T235945Z
UID:10001071-1773945000-1773948600@acwm.org
SUMMARY:Unconditional Surrender: Ulysses S. Grant in the Civil War
DESCRIPTION:From “Sam” to “Unconditional Surrender” Grant\, discover how an unassuming officer rose to command all U.S. forces. \n\n\n\nHis friends called him “Sam.” His wife called him “Lyss” or “Victor.” His initials inspired a nickname tied to one of his greatest battlefield triumphs: “Unconditional Surrender Grant.” The unassuming Grant never expected to play a significant role in the Civil War\, yet by its end\, he commanded every soldier in the United States armed forces. Join us as living historian\, Dr. Curt Fields\, shares insights from his book co-authored with Chris Mackowski.
URL:https://acwm.org/event/unconditional-surrender-ulysses-s-grant-in-the-civil-war/
CATEGORIES:Lectures,Virtual Programs
ATTACH;FMTTYPE=image/jpeg:https://acwm.org/wp-content/uploads/Fields_Uncon-Surrender_3.2026_web-scaled.jpg
END:VEVENT
END:VCALENDAR