BEGIN:VCALENDAR
VERSION:2.0
PRODID:-//American Civil War Museum - ECPv6.15.12.2//NONSGML v1.0//EN
CALSCALE:GREGORIAN
METHOD:PUBLISH
X-WR-CALNAME:American Civil War Museum
X-ORIGINAL-URL:https://acwm.org
X-WR-CALDESC:Events for American Civil War Museum
REFRESH-INTERVAL;VALUE=DURATION:PT1H
X-Robots-Tag:noindex
X-PUBLISHED-TTL:PT1H
BEGIN:VTIMEZONE
TZID:America/New_York
BEGIN:DAYLIGHT
TZOFFSETFROM:-0500
TZOFFSETTO:-0400
TZNAME:EDT
DTSTART:20250309T070000
END:DAYLIGHT
BEGIN:STANDARD
TZOFFSETFROM:-0400
TZOFFSETTO:-0500
TZNAME:EST
DTSTART:20251102T060000
END:STANDARD
BEGIN:DAYLIGHT
TZOFFSETFROM:-0500
TZOFFSETTO:-0400
TZNAME:EDT
DTSTART:20260308T070000
END:DAYLIGHT
BEGIN:STANDARD
TZOFFSETFROM:-0400
TZOFFSETTO:-0500
TZNAME:EST
DTSTART:20261101T060000
END:STANDARD
BEGIN:DAYLIGHT
TZOFFSETFROM:-0500
TZOFFSETTO:-0400
TZNAME:EDT
DTSTART:20270314T070000
END:DAYLIGHT
BEGIN:STANDARD
TZOFFSETFROM:-0400
TZOFFSETTO:-0500
TZNAME:EST
DTSTART:20271107T060000
END:STANDARD
END:VTIMEZONE
BEGIN:VEVENT
DTSTART;TZID=America/New_York:20260514T183000
DTEND;TZID=America/New_York:20260514T200000
DTSTAMP:20260421T000148
CREATED:20260416T210036Z
LAST-MODIFIED:20260416T210041Z
UID:10001093-1778783400-1778788800@acwm.org
SUMMARY:A Nation in Mourning with Derek D. Maxfield
DESCRIPTION:Join us for Derek Maxfield’s talk on Victorian America\, Civil War disruption\, and how it reshaped 19th-century views of death. \n\n\n\nBy 1860\, Victorians had come to dominate the American cultural landscape. The working class sought for most of the century to emulate them\, while the wealthy used their advantages to set themselves apart with material goods and selectively followed Victorian rules to appear sophisticated. However\, Victorian cultural dominance was severely challenged by the Civil War. The harsh realities of war changed Victorian values and left many searching for ways to cope. In few areas was this more apparent than in attitudes toward death. Victorians who entered the 1860s romanticizing death found themselves appalled by grim depictions of mangled corpses in photographs of the era. Looking for a new direction\, they readily embraced the Industrial and Consumer Revolutions in the decades after the war to reshape how death and dying were observed\, how corpses were cared for\, and how cemetery art memorialized the dead. \n\n\n\nDerek Maxfield\, formerly an associate professor of history at Genesee Community College\, received the SUNY Chancellor’s Award for Excellence in Teaching (2019) and for Excellence in Scholarship and Creative Activities (2013). His research focuses on Victorian deathways and 19th century politics and culture. He has written for Emerging Civil War since 2015 and is the author of Hellmira: The Union’s Most Infamous Civil War Prison Camp – Elmira\, NY (2020) and Man of Fire: William Tecumseh Sherman in the Civil War (2023)\, both published by Savas Beatie.
URL:https://acwm.org/event/a-nation-in-mourning-with-derek-d-maxfield/
LOCATION:American Civil War Museum – Appomattox\, 159 Horseshoe Rd\, Appomattox\, Virginia\, 24522\, United States
CATEGORIES:Appomattox Events,Book Talk,For Educators,For Students,Lectures,Tours
ATTACH;FMTTYPE=image/jpeg:https://acwm.org/wp-content/uploads/APX-Maxfield_May2026-web-scaled.jpg
END:VEVENT
BEGIN:VEVENT
DTSTART;TZID=America/New_York:20260528T180000
DTEND;TZID=America/New_York:20260528T200000
DTSTAMP:20260421T000148
CREATED:20260326T145635Z
LAST-MODIFIED:20260327T211949Z
UID:10001088-1779991200-1779998400@acwm.org
SUMMARY:Out of This Strife Will Come Freedom: Free People of Color & the Fight For Civil Rights in the Civil War Era
DESCRIPTION:Free people of color\, through their military service and advocacy\, used the political and social disruptions brought about by the Civil War to push for a second founding of the nation. Join us as Dr. Warren Eugene Milteer\, Jr.  shows how free people of color sought to reshape the United States into a place in which all Americans would enjoy freedom and equal access to a broad spectrum of rights\, promoting equality and justice as fundamental features of American life during the Civil War era. \n\n\n\nWith Dr. Warren Eugene Milteer\, Jr.\, Associate Professor of history at the George Washington University. \n\n\n\nMember reception at 5pm
URL:https://acwm.org/event/out-of-this-strife-will-come-freedom-free-people-of-color-the-fight-for-civil-rights-in-the-civil-war-era/
CATEGORIES:Book Talk,For Educators,For Students,Lectures,Richmond Events
ATTACH;FMTTYPE=image/jpeg:https://acwm.org/wp-content/uploads/Milteer_Strife_web-scaled.jpg
END:VEVENT
BEGIN:VEVENT
DTSTART;TZID=America/New_York:20260627T090000
DTEND;TZID=America/New_York:20260627T150000
DTSTAMP:20260421T000148
CREATED:20260417T202237Z
LAST-MODIFIED:20260417T233010Z
UID:10001094-1782550800-1782572400@acwm.org
SUMMARY:Battlefield Tour: Seven Days Campaign
DESCRIPTION:Screenshot\n\n\n\n\n\nJoin us for a caravan-style tour of the Seven Days Battles! This 6-hour tour will first meet at ACWM–Tredegar at 8:45 AM. \n\n\n\n \n\n\n\nTOUR STOP ADDRESSES:\n\n\n\n1. ACWM–Tredegar (Restrooms & Food): 480 Tredegar St. Richmond\, VA 23219 \n\n\n\n2. Dabbs House: 3812 Nine Mile Rd\, Richmond\, VA 23223 \n\n\n\n3. Chickahominy Bluff: 2302 Springdale Rd\, Richmond\, VA 23222 \n\n\n\n4. Beaver Dam Creek: 7423 Cold Harbor Rd\, Mechanicsville\, VA 23111 \n\n\n\n5. Gaines’ Mill (Restrooms at Cold Harbor Visitor Center): 6283 Watt House Rd\, Mechanicsville\, VA 23111 \n\n\n\n6. Grapevine Bridge (Lunch Break): 1352 Hanover Rd\, Sandston\, VA 23150 \n\n\n\n7. Savage’s Station 2801 Meadow Rd\, Sandston\, VA 23150 \n\n\n\n8. White Oak Swamp at Elko Union Church: 6861 Elko Rd\, Sandston\, VA 23150 \n\n\n\n9. Glendale at Horizon Food Stores: 6141 Charles City Rd\, Henrico\, VA 23231 \n\n\n\n10. Malvern Hill (Restrooms): 8945-8955 Willis Church Rd\, Henrico\, VA 23231 \n\n\n\nThere will be limited opportunities for food/fuel/restroom stops along the route\, so please plan accordingly. This tour involves short walks at various stops. For more detailed information\, please reach out to our manager of historic engagement\, Chuck Young (cyoung@acwm.org\, 804-649-1861 ext. 101)
URL:https://acwm.org/event/battlefield-tour-seven-days-campaign/
CATEGORIES:Family-Friendly,For Educators,For Students,Richmond Events,Tours
ATTACH;FMTTYPE=image/jpeg:https://acwm.org/wp-content/uploads/7Days_Tour_June2026-web-2-scaled.jpg
END:VEVENT
BEGIN:VEVENT
DTSTART;TZID=America/New_York:20260630T180000
DTEND;TZID=America/New_York:20260630T190000
DTSTAMP:20260421T000148
CREATED:20260309T155627Z
LAST-MODIFIED:20260309T155631Z
UID:10001080-1782842400-1782846000@acwm.org
SUMMARY:A Slumbering Serpent: George Washington on Slavery and Disunion
DESCRIPTION:In this engaging living history program\, George Washington (portrayed by Brian Hilton) will reflect on the moral\, economic\, and political challenges of slavery in his time and the growing divisions threatening the young nation’s unity. The presentation offers a historically grounded and thoughtful exploration of Washington’s evolving conscience and leadership. \n\n\n\nFollowing his remarks\, the audience will be invited to engage in a question-and-answer session exploring these complex issues. \n\n\n\n \n\n\n\nMembers Reception at 5 pm
URL:https://acwm.org/event/a-slumbering-serpent-george-washington-on-slavery-and-disunion/
CATEGORIES:Family-Friendly,For Educators,For Students,Lectures,Richmond Events,Tours
ATTACH;FMTTYPE=image/jpeg:https://acwm.org/wp-content/uploads/Hilton_GW_6.2026-web2-scaled.jpg
END:VEVENT
END:VCALENDAR