BEGIN:VCALENDAR
VERSION:2.0
PRODID:-//American Civil War Museum - ECPv6.15.12.2//NONSGML v1.0//EN
CALSCALE:GREGORIAN
METHOD:PUBLISH
X-ORIGINAL-URL:https://acwm.org
X-WR-CALDESC:Events for American Civil War Museum
REFRESH-INTERVAL;VALUE=DURATION:PT1H
X-Robots-Tag:noindex
X-PUBLISHED-TTL:PT1H
BEGIN:VTIMEZONE
TZID:America/New_York
BEGIN:DAYLIGHT
TZOFFSETFROM:-0500
TZOFFSETTO:-0400
TZNAME:EDT
DTSTART:20230312T070000
END:DAYLIGHT
BEGIN:STANDARD
TZOFFSETFROM:-0400
TZOFFSETTO:-0500
TZNAME:EST
DTSTART:20231105T060000
END:STANDARD
BEGIN:DAYLIGHT
TZOFFSETFROM:-0500
TZOFFSETTO:-0400
TZNAME:EDT
DTSTART:20240310T070000
END:DAYLIGHT
BEGIN:STANDARD
TZOFFSETFROM:-0400
TZOFFSETTO:-0500
TZNAME:EST
DTSTART:20241103T060000
END:STANDARD
BEGIN:DAYLIGHT
TZOFFSETFROM:-0500
TZOFFSETTO:-0400
TZNAME:EDT
DTSTART:20250309T070000
END:DAYLIGHT
BEGIN:STANDARD
TZOFFSETFROM:-0400
TZOFFSETTO:-0500
TZNAME:EST
DTSTART:20251102T060000
END:STANDARD
END:VTIMEZONE
BEGIN:VEVENT
DTSTART;TZID=America/New_York:20240601T110000
DTEND;TZID=America/New_York:20240601T120000
DTSTAMP:20260422T045747
CREATED:20240528T173338Z
LAST-MODIFIED:20240528T173341Z
UID:10000940-1717239600-1717243200@acwm.org
SUMMARY:Tredegar History Tour 11am & 3pm + Musket Firing Demonstrations at 1pm! Every Saturday & Sunday all summer!
DESCRIPTION:Find yourself in history on a guided tour of the former Tredegar Iron Works site & musket firing demonstrations by our historic interpretation team all included with museum admission! Plan your visit today!
URL:https://acwm.org/event/tredegar-history-tour-11am-3pm-musket-firing-demonstrations-at-1pm-every-saturday-sunday-all-summer/
CATEGORIES:Family-Friendly,For Educators,For Students,Performance,Richmond Events,Tours
ATTACH;FMTTYPE=image/jpeg:https://acwm.org/wp-content/uploads/Tredegar-ironworks-tour-square.jpg
END:VEVENT
BEGIN:VEVENT
DTSTART;TZID=America/New_York:20240607T110000
DTEND;TZID=America/New_York:20240607T114500
DTSTAMP:20260422T045747
CREATED:20240528T174717Z
LAST-MODIFIED:20240528T174719Z
UID:10000941-1717758000-1717760700@acwm.org
SUMMARY:Guided tour of our new exhibit 'The Impending Crisis' every Friday in June at 11am!
DESCRIPTION:Don’t miss the opportunity for a guided tour of our latest exhibit!
URL:https://acwm.org/event/guided-tour-of-our-new-exhibit-the-impending-crisis-every-friday-in-june-at-11am/
CATEGORIES:Family-Friendly,For Educators,For Students,Richmond Events,Tours
ATTACH;FMTTYPE=image/jpeg:https://acwm.org/wp-content/uploads/ACWM_DSC_4569-sm.jpg
END:VEVENT
BEGIN:VEVENT
DTSTART;TZID=America/New_York:20240608T110000
DTEND;TZID=America/New_York:20240608T170000
DTSTAMP:20260422T045747
CREATED:20240604T234235Z
LAST-MODIFIED:20240604T234239Z
UID:10000943-1717844400-1717866000@acwm.org
SUMMARY:Tredegar History Tour every Saturday & Sunday this summer at 11am and 3pm. Musket firing demonstrations at 1pm each day!
DESCRIPTION:
URL:https://acwm.org/event/tredegar-history-tour-every-saturday-sunday-this-summer-at-11am-and-3pm-musket-firing-demonstrations-at-1pm-each-day/
CATEGORIES:Family-Friendly,For Educators,For Students,History Happy Hour,Lectures,Members & Donors Only,Open House,Performance,Richmond Events,Tours
ATTACH;FMTTYPE=image/jpeg:https://acwm.org/wp-content/uploads/Tredegar-ironworks-tour-square.jpg
END:VEVENT
BEGIN:VEVENT
DTSTART;TZID=America/New_York:20240614T110000
DTEND;TZID=America/New_York:20240614T120000
DTSTAMP:20260422T045747
CREATED:20240611T151749Z
LAST-MODIFIED:20240611T151751Z
UID:10000945-1718362800-1718366400@acwm.org
SUMMARY:'The Impending Crisis' guided tour every Friday in June at 11am!
DESCRIPTION:Guided tour of our new exhibit The Impending Crisis every Friday in June at 11am.  Explore America on the verge of a civil war.
URL:https://acwm.org/event/the-impending-crisis-guided-tour-every-friday-in-june-at-11am/
CATEGORIES:Book Talk,Family-Friendly,For Educators,For Students,Lectures,Members & Donors Only,Open House,Performance,Richmond Events,Tours
ATTACH;FMTTYPE=image/png:https://acwm.org/wp-content/uploads/impending-crisis-now-open-header.png
END:VEVENT
BEGIN:VEVENT
DTSTART;TZID=America/New_York:20240615T110000
DTEND;TZID=America/New_York:20240615T110000
DTSTAMP:20260422T045747
CREATED:20240611T150204Z
LAST-MODIFIED:20240611T150646Z
UID:10000944-1718449200-1718449200@acwm.org
SUMMARY:Tredegar History Tour every Saturday and Sunday at 11am & 3pm + Musket Firing Demonstrations at 1pm!
DESCRIPTION:weekday tours (no musket demonstration) daily at 11am \n\n\n\n \n\n\n\n\n\nJoin us for a guided tour of the Tredegar site at 11am or 3pm & a musket firing demonstration at 1pm every weekend this summer. Find yourself in history on a tour of Historic Tredegar!
URL:https://acwm.org/event/tredegar-history-tour-every-saturday-and-sunday-at-11am-3pm-musket-firing-demonstrations-at-1pm/
CATEGORIES:Family-Friendly,For Educators,For Students,History Happy Hour,Lectures,Members & Donors Only,Open House,Performance,Richmond Events,Tours
ATTACH;FMTTYPE=image/jpeg:https://acwm.org/wp-content/uploads/Tredegar-ironworks-tour-square.jpg
END:VEVENT
BEGIN:VEVENT
DTSTART;TZID=America/New_York:20240615T110000
DTEND;TZID=America/New_York:20240615T120000
DTSTAMP:20260422T045747
CREATED:20240523T170357Z
LAST-MODIFIED:20240530T174536Z
UID:10000937-1718449200-1718452800@acwm.org
SUMMARY:Southern Portrait Images through the Civil War Era - Saturday\, June 15th at 11am and at 2pm
DESCRIPTION:Photography was still a relatively new technology in 1861\, but it helped to document the Civil War. What makes an image iconic? What are the best ways to care for photographs from the time? Join us for a showing of some of the best examples of the art from a private collection\, and engage in discussion of these durable\, yet delicate\, objects of the past.  \n\n\n\nWith Russel Hicks\, ACWM-Appomattox Advisory Council Member
URL:https://acwm.org/event/southern-portrait-images-through-the-civil-war-era-saturday-june-15th-at-11am-and-at-2pm/
LOCATION:American Civil War Museum – Appomattox\, 159 Horseshoe Road\, Appomattox\, Virginia\, 24522
CATEGORIES:Appomattox Events,For Educators,For Students,Lectures,Members & Donors Only,Panels + Q&As
ATTACH;FMTTYPE=image/jpeg:https://acwm.org/wp-content/uploads/Briant-J-B-2.jpg
END:VEVENT
BEGIN:VEVENT
DTSTART;TZID=America/New_York:20240620T183000
DTEND;TZID=America/New_York:20240620T193000
DTSTAMP:20260422T045747
CREATED:20240524T164119Z
LAST-MODIFIED:20240530T180807Z
UID:10000939-1718908200-1718911800@acwm.org
SUMMARY:Thunder in the Harbor: Fort Sumter & the Civil War (virtual program)
DESCRIPTION:With Richard W. Hatcher III \n\n\n\n\n\n\n\nThis is an VIRTUAL  PROGRAM \n\n\n\n\n\nFort Sumter. Charleston. April 1861. The bombardment and surrender of Sumter were only the beginning of the story. Both sides understood the military significance of the fort and the busy seaport\, which played host to one of the longest\, most complicated and fascinating campaigns of the entire Civil War. Join Richard Hatcher as he explores the fort from its origins through the war and up to the present. \n\n\n\nAbout the speaker… \n\n\n\nRichard W. Hatcher III is a native of Richmond\, Virginia. He graduated from Virginia Commonwealth University in 1973 with a BA in History. His lifelong love of the subject began during the Civil War Centennial\, and grew when he later worked as a seasonal employee at Richmond National Battlefield Park. Rick began working permanently with the National Park Service in 1976 and he retired as Historian from Fort Sumter and Fort Moultrie National Historical Park in 2015. Rick is the author or co-author of numerous articles and books including the award-winning Wilson’s Creek\, The Second Major Battle of the Civil War and the Men Who Fought It (2001)\, and Wilson’s Creek\, Pea Ridge\, and Prairie Grove and is a regular on the Civil War speaking circuit.
URL:https://acwm.org/event/thunder-in-the-harbor-fort-sumter-the-civil-war/
CATEGORIES:Book Talk,For Educators,For Students,Lectures,Virtual Programs
ATTACH;FMTTYPE=image/png:https://acwm.org/wp-content/uploads/Hatcher_Thunder-in-the-Harbor.png
END:VEVENT
BEGIN:VEVENT
DTSTART;TZID=America/New_York:20240622T110000
DTEND;TZID=America/New_York:20240622T110000
DTSTAMP:20260422T045747
CREATED:20240619T014909Z
LAST-MODIFIED:20240619T014911Z
UID:10000948-1719054000-1719054000@acwm.org
SUMMARY:Tredegar History Tour every Saturday & Sunday at 11am and 3pm with musket firing demonstration at 1pm!
DESCRIPTION:Find yourself in history this summer at the American Civil War Museum!\n\n\n\n\n\nJoin a guided tour of the former Tredegar Iron Works site and see a musket firing demonstration by our historians! Both are included with museum admission. Every Saturday and Sunday this summer!
URL:https://acwm.org/event/tredegar-history-tour-every-saturday-sunday-at-11am-and-3pm-with-musket-firing-demonstration-at-1pm/
LOCATION:The American Civil War Museum – Historic Tredegar\, 480 Tredegar St.\, Richmond\, Virginia\, 23219\, United States
CATEGORIES:Family-Friendly,For Educators,For Students,Lectures,Members & Donors Only,Open House,Performance,Richmond Events,Tours
ATTACH;FMTTYPE=image/jpeg:https://acwm.org/wp-content/uploads/Tredegar-ironworks-tour-square.jpg
END:VEVENT
BEGIN:VEVENT
DTSTART;TZID=America/New_York:20240629T100000
DTEND;TZID=America/New_York:20240629T170000
DTSTAMP:20260422T045747
CREATED:20240626T015300Z
LAST-MODIFIED:20240629T172617Z
UID:10000950-1719655200-1719680400@acwm.org
SUMMARY:Greenback America Now Open at ACWM-Appomattox!
DESCRIPTION:Explore how Americans assigned cultural meaning to money and how doing so helped them interpret politics\, patriotism\, and race.  Learn how the United States’ decision about how to pay off the Civil War transformed the relationship between the government\, the economy\, banks\, and citizens.
URL:https://acwm.org/event/greenback-america-now-open-at-acwm-appomattox/
LOCATION:American Civil War Museum – Appomattox\, 159 Horseshoe Rd\, Appomattox\, Virginia\, 24522\, United States
CATEGORIES:Appomattox Events,Family-Friendly,For Educators,For Students,Lectures,Members & Donors Only,Open House,Panels + Q&As,Tours
ATTACH;FMTTYPE=image/png:https://acwm.org/wp-content/uploads/unnamed-2-1.png
END:VEVENT
BEGIN:VEVENT
DTSTART;TZID=America/New_York:20240629T110000
DTEND;TZID=America/New_York:20240629T110000
DTSTAMP:20260422T045747
CREATED:20240626T013019Z
LAST-MODIFIED:20240628T230111Z
UID:10000949-1719658800-1719658800@acwm.org
SUMMARY:Tredegar History Tour every Saturday & Sunday at 11am and 3pm + musket firing demonstrations at 1pm! (included with museum admission).
DESCRIPTION:Every weekend all summer! Included with museum admission.\n\n\n\nJoin a guided tour of the Historic Tredegar site and watch a musket firing demonstration!
URL:https://acwm.org/event/tredegar-history-tour-every-saturday-sunday-at-11am-and-3pm-musket-firing-demonstrations-at-1pm/
LOCATION:The American Civil War Museum – Historic Tredegar\, 480 Tredegar St.\, Richmond\, Virginia\, 23219\, United States
CATEGORIES:Family-Friendly,For Educators,For Students,Lectures,Members & Donors Only,Open House,Performance,Richmond Events,Tours
ATTACH;FMTTYPE=image/jpeg:https://acwm.org/wp-content/uploads/Tredegar-ironworks-tour-square.jpg
END:VEVENT
BEGIN:VEVENT
DTSTART;TZID=America/New_York:20240630T080000
DTEND;TZID=America/New_York:20240630T170000
DTSTAMP:20260422T045747
CREATED:20240629T172426Z
LAST-MODIFIED:20240629T173049Z
UID:10000951-1719734400-1719766800@acwm.org
SUMMARY:Daily Guided Tours - The White House of the Confederacy
DESCRIPTION:Find yourself in history on a guided tour of this National Historic Landmark as you learn about the people who lived and worked there during the Civil War.  Consider the value visit by purchasing a multi-site pass to explore our Tredegar site\, also in downtown RVA on the Tredegar Riverfront!
URL:https://acwm.org/event/daily-guided-tours-the-white-house-of-the-confederacy/
LOCATION:1201 East Clay Street\, Richmond\, VA  23219\, Richmond\, 23219
CATEGORIES:Family-Friendly,For Educators,For Students,Lectures,Panels + Q&As,Richmond Events,Tours
ATTACH;FMTTYPE=image/jpeg:https://acwm.org/wp-content/uploads/DSC_8133-edit-sm2-1.jpg
END:VEVENT
END:VCALENDAR