BEGIN:VCALENDAR
VERSION:2.0
PRODID:-//American Civil War Museum - ECPv6.15.12.2//NONSGML v1.0//EN
CALSCALE:GREGORIAN
METHOD:PUBLISH
X-WR-CALNAME:American Civil War Museum
X-ORIGINAL-URL:https://acwm.org
X-WR-CALDESC:Events for American Civil War Museum
REFRESH-INTERVAL;VALUE=DURATION:PT1H
X-Robots-Tag:noindex
X-PUBLISHED-TTL:PT1H
BEGIN:VTIMEZONE
TZID:America/New_York
BEGIN:DAYLIGHT
TZOFFSETFROM:-0500
TZOFFSETTO:-0400
TZNAME:EDT
DTSTART:20230312T070000
END:DAYLIGHT
BEGIN:STANDARD
TZOFFSETFROM:-0400
TZOFFSETTO:-0500
TZNAME:EST
DTSTART:20231105T060000
END:STANDARD
BEGIN:DAYLIGHT
TZOFFSETFROM:-0500
TZOFFSETTO:-0400
TZNAME:EDT
DTSTART:20240310T070000
END:DAYLIGHT
BEGIN:STANDARD
TZOFFSETFROM:-0400
TZOFFSETTO:-0500
TZNAME:EST
DTSTART:20241103T060000
END:STANDARD
BEGIN:DAYLIGHT
TZOFFSETFROM:-0500
TZOFFSETTO:-0400
TZNAME:EDT
DTSTART:20250309T070000
END:DAYLIGHT
BEGIN:STANDARD
TZOFFSETFROM:-0400
TZOFFSETTO:-0500
TZNAME:EST
DTSTART:20251102T060000
END:STANDARD
END:VTIMEZONE
BEGIN:VEVENT
DTSTART;TZID=America/New_York:20240902T100000
DTEND;TZID=America/New_York:20240902T170000
DTSTAMP:20260421T233151
CREATED:20240901T153750Z
LAST-MODIFIED:20240901T153754Z
UID:10000976-1725271200-1725296400@acwm.org
SUMMARY:Tredegar History Tour & Musket Firing Demonstration
DESCRIPTION:Guided Tredegar HIstory Tour at 11am and 3pm with living history Musket Firing Demonstration at 1pm! Find yourself in history this Labor Day!
URL:https://acwm.org/event/tredegar-history-tour-musket-firing-demonstration/
CATEGORIES:Performance,Richmond Events,Tours
ATTACH;FMTTYPE=image/jpeg:https://acwm.org/wp-content/uploads/Tredegar-ironworks-tour-square.jpg
END:VEVENT
BEGIN:VEVENT
DTSTART;TZID=America/New_York:20240902T100000
DTEND;TZID=America/New_York:20240902T170000
DTSTAMP:20260421T233151
CREATED:20240901T161259Z
LAST-MODIFIED:20240901T161301Z
UID:10000978-1725271200-1725296400@acwm.org
SUMMARY:Greenback America Exhibit at ACWM-Appomattox
DESCRIPTION:Greenback America exhibit is now open at ACWM-Appomattox! Explore changes to the U.S. monetary system brought on by the Civil War. Open daily and included with museum admission.
URL:https://acwm.org/event/greenback-america-exhibit-at-acwm-appomattox/
CATEGORIES:Appomattox Events
ATTACH;FMTTYPE=image/png:https://acwm.org/wp-content/uploads/greenback-apx-opening-header.png
END:VEVENT
BEGIN:VEVENT
DTSTART;TZID=America/New_York:20240907T100000
DTEND;TZID=America/New_York:20240907T170000
DTSTAMP:20260421T233151
CREATED:20240906T174434Z
LAST-MODIFIED:20240906T174437Z
UID:10000980-1725703200-1725728400@acwm.org
SUMMARY:Tredegar History Tour & Musket Firing Demonstration! Saturday and Sunday
DESCRIPTION:Find yourself in history at the American Civil War Museum\n\n\n\nTake a guided tour of the Historic Tredegar site and see a musket firing demonstration.  Saturday and Sunday tours at 11am and 3pm with demonstrations at 1pm each day.
URL:https://acwm.org/event/tredegar-history-tour-musket-firing-demonstration-saturday-and-sunday/
CATEGORIES:Richmond Events,Tours
ATTACH;FMTTYPE=image/jpeg:https://acwm.org/wp-content/uploads/IMG_8704-1.jpg
END:VEVENT
BEGIN:VEVENT
DTSTART;TZID=America/New_York:20240914T100000
DTEND;TZID=America/New_York:20240914T170000
DTSTAMP:20260421T233151
CREATED:20240906T174746Z
LAST-MODIFIED:20240910T231613Z
UID:10000981-1726308000-1726333200@acwm.org
SUMMARY:Greenback America Exhibit at ACWM-Appomattox
DESCRIPTION:A dynamic exhibit exploring the evolution of the nation’s monetary system after the Civil War.  Open daily at ACWM-Appomattox
URL:https://acwm.org/event/greenback-america-exhibit-at-acwm-appomattox-2/
CATEGORIES:Appomattox Events
ATTACH;FMTTYPE=image/jpeg:https://acwm.org/wp-content/uploads/Greenback-sm-scaled.jpg
END:VEVENT
BEGIN:VEVENT
DTSTART;TZID=America/New_York:20240914T100000
DTEND;TZID=America/New_York:20240914T170000
DTSTAMP:20260421T233151
CREATED:20240907T225134Z
LAST-MODIFIED:20240910T232134Z
UID:10000982-1726308000-1726333200@acwm.org
SUMMARY:Tredegar History Tour & Musket Firing Demonstration
DESCRIPTION:Guided tour of the Historic Tredegar site at 11 am and 3 pm with Musket Firing Demonstration at 1 pm!
URL:https://acwm.org/event/tredegar-history-tour-musket-firing-demonstration-2/
CATEGORIES:Richmond Events,Tours
ATTACH;FMTTYPE=image/jpeg:https://acwm.org/wp-content/uploads/Tredegar-ironworks-tour-square.jpg
END:VEVENT
BEGIN:VEVENT
DTSTART;TZID=America/New_York:20240919T180000
DTEND;TZID=America/New_York:20240919T193000
DTSTAMP:20260421T233151
CREATED:20240806T183502Z
LAST-MODIFIED:20240807T141548Z
UID:10000973-1726768800-1726774200@acwm.org
SUMMARY:In-Person Book Talk with Dr. Yael Sternhell: War on Record
DESCRIPTION:How do Civil War historians craft their narratives? What do they actually know about the sources they rely on to convey historical truths? In a talk drawing on her new book\, Yael A. Sternhell discusses the Civil War’s most important archive and reveal how what we consider as factual knowledge about America’s greatest conflict was actually shaped by an intricate web of ideological currents and political struggles during the postbellum era.Yael Sternhell\, Ph.D. teaches history and American studies at Tel Aviv University and  is also the author of Routes of War: The World of Movement in the Confederate South.  \n\n\n\nFree to ACWM Members\, Non-members $10 \n\n\n\nPre-event Member Reception 5:00pm-6:00pm
URL:https://acwm.org/event/in-person-book-talk-with-dr-yael-sternhell-war-on-record/
LOCATION:The American Civil War Museum – Historic Tredegar\, 480 Tredegar St.\, Richmond\, Virginia\, 23219\, United States
CATEGORIES:Book Talk,Richmond Events
ATTACH;FMTTYPE=image/jpeg:https://acwm.org/wp-content/uploads/ACWM-EVENTS-HEADERS-4.jpg
END:VEVENT
BEGIN:VEVENT
DTSTART;TZID=America/New_York:20240921T110000
DTEND;TZID=America/New_York:20240921T170000
DTSTAMP:20260421T233151
CREATED:20240920T231622Z
LAST-MODIFIED:20240920T231625Z
UID:10000986-1726916400-1726938000@acwm.org
SUMMARY:Tredegar History Tour
DESCRIPTION:Guided tour of the Historic Tredegar site every Saturday & Sunday is included with admission. Tours at 11am and 3pm with Musket Firing Demonstration at 1pm!  \n\n\n\n480 Tredegar Street\, Richmond VA 23219
URL:https://acwm.org/event/tredegar-history-tour-3/
CATEGORIES:Family-Friendly,For Educators,For Students,Performance,Richmond Events
ATTACH;FMTTYPE=image/jpeg:https://acwm.org/wp-content/uploads/Tredegar-ironworks-tour-square.jpg
END:VEVENT
BEGIN:VEVENT
DTSTART;TZID=America/New_York:20240925T173000
DTEND;TZID=America/New_York:20240925T190000
DTSTAMP:20260421T233151
CREATED:20240911T150519Z
LAST-MODIFIED:20240911T152501Z
UID:10000983-1727285400-1727290800@acwm.org
SUMMARY:Trivia Night at the Museum
DESCRIPTION:Join us for drinks and a few rounds of trivia! Tredegar\, ACWM\, and of the Civil War – lots of topics\, lots of fun!  With our partner Virago Spirits\, his event is part of our Wind Down Wednesday series when we welcome visitors to our Tredegar site after hours. This popular event features signature cocktails with a side of Civil War history in an incredible riverfront Richmond landmark\, Tredegar. \n\n\n\n\nGet Tickets!
URL:https://acwm.org/event/trivia-night-at-the-museum/
CATEGORIES:Richmond Events,Wine-Down Wednesdays
ATTACH;FMTTYPE=image/jpeg:https://acwm.org/wp-content/uploads/WDW-September-Trivia-EB_v2-scaled.jpg
END:VEVENT
BEGIN:VEVENT
DTSTART;TZID=America/New_York:20240926T183000
DTEND;TZID=America/New_York:20240926T193000
DTSTAMP:20260421T233151
CREATED:20240923T175201Z
LAST-MODIFIED:20240923T175208Z
UID:10000987-1727375400-1727379000@acwm.org
SUMMARY:The Unvanquished-(virtual book talk)
DESCRIPTION:Join this virtual book talk\, where author Patrick K. O’Donnell discusses his book\, The Unvanquished. This book documents the untold story of Lincoln’s Special Forces\, the manhunt for Mosby’s Rangers\, and the shadow war that forged America’s Special Operations
URL:https://acwm.org/event/the-unvanquished-virtual-book-talk/
CATEGORIES:Book Talk,Virtual Programs
ATTACH;FMTTYPE=image/png:https://acwm.org/wp-content/uploads/ODonnell_Unvanquished.png
END:VEVENT
END:VCALENDAR