BEGIN:VCALENDAR
VERSION:2.0
PRODID:-//American Civil War Museum - ECPv6.15.12.2//NONSGML v1.0//EN
CALSCALE:GREGORIAN
METHOD:PUBLISH
X-ORIGINAL-URL:https://acwm.org
X-WR-CALDESC:Events for American Civil War Museum
REFRESH-INTERVAL;VALUE=DURATION:PT1H
X-Robots-Tag:noindex
X-PUBLISHED-TTL:PT1H
BEGIN:VTIMEZONE
TZID:America/New_York
BEGIN:DAYLIGHT
TZOFFSETFROM:-0500
TZOFFSETTO:-0400
TZNAME:EDT
DTSTART:20240310T070000
END:DAYLIGHT
BEGIN:STANDARD
TZOFFSETFROM:-0400
TZOFFSETTO:-0500
TZNAME:EST
DTSTART:20241103T060000
END:STANDARD
BEGIN:DAYLIGHT
TZOFFSETFROM:-0500
TZOFFSETTO:-0400
TZNAME:EDT
DTSTART:20250309T070000
END:DAYLIGHT
BEGIN:STANDARD
TZOFFSETFROM:-0400
TZOFFSETTO:-0500
TZNAME:EST
DTSTART:20251102T060000
END:STANDARD
BEGIN:DAYLIGHT
TZOFFSETFROM:-0500
TZOFFSETTO:-0400
TZNAME:EDT
DTSTART:20260308T070000
END:DAYLIGHT
BEGIN:STANDARD
TZOFFSETFROM:-0400
TZOFFSETTO:-0500
TZNAME:EST
DTSTART:20261101T060000
END:STANDARD
END:VTIMEZONE
BEGIN:VEVENT
DTSTART;TZID=America/New_York:20250313T180000
DTEND;TZID=America/New_York:20250313T190000
DTSTAMP:20260421T125058
CREATED:20250211T120529Z
LAST-MODIFIED:20250211T121006Z
UID:10001002-1741888800-1741892400@acwm.org
SUMMARY:Death & Mourning in the Civil War
DESCRIPTION: The American Civil War brought a previously unimaginable level of carnage to the country. Modern scholarship puts the soldier death toll at 750\,000 over the course of the four years of struggle. Join us as living historian Betty Shideler explores the way that women\, both in the North and South\, sought to cope with death during and after the Civil War.
URL:https://acwm.org/event/death-mourning-in-the-civil-war/
LOCATION:American Civil War Museum – Appomattox\, 159 Horseshoe Rd\, Appomattox\, Virginia\, 24522\, United States
CATEGORIES:Appomattox Events
ATTACH;FMTTYPE=image/jpeg:https://acwm.org/wp-content/uploads/Death-Mourning-web-header-scaled.jpg
END:VEVENT
BEGIN:VEVENT
DTSTART;TZID=America/New_York:20250324T180000
DTEND;TZID=America/New_York:20250324T191500
DTSTAMP:20260421T125058
CREATED:20250214T001035Z
LAST-MODIFIED:20250227T204833Z
UID:10001003-1742839200-1742843700@acwm.org
SUMMARY:Nature's Civil War: Common Soldiers & the Environment in 1862 Virginia
DESCRIPTION:In 1862 Virginia\, Civil War soldiers endured punishing environmental conditions\, which increased disease and harmed morale. In response to their natural enemies\, they forged informal networks of health care and adopted self-care habits\, from boiling water\, to eradicating insects\, to constructing elaborate shelters. As they fought to regain their health\, they frequently struggled\, testing the limits of army discipline. \n\n\n\nWith KT Shively\, Associate Professor of Civil War history and Reconstruction at Virginia Commonwealth University. Their book\, Nature’s Civil War\, won the 2014 Wiley-Silver Prize for best first book on the Civil War. Shively is currently the Mark and Ann Persun Visiting Scholar at the Penn State Richards Civil War Era Center\, while they complete their second monograph\, History Wars: Jubal A. Early and the Confederate Origins of Modern American History. This month their co-edited volume\, The Second Manassas Campaign\, with Caroline Janney\, will be released from UNC Press. Shively is also Co-PI with Paul Quigley (Virginia Tech University) of a digital battlefield and plantation site tour\, “Experiencing Civil War History Through Augmented Reality: Soldiers\, Civilians\, and the Environment at Pamplin Historical Park. \n\n\n\nMember Reception 5:15 – 6:00 PM
URL:https://acwm.org/event/natures-civil-war-common-soldiers-the-environment-in-1862-virginia/
CATEGORIES:Book Talk,Richmond Events
ATTACH;FMTTYPE=image/jpeg:https://acwm.org/wp-content/uploads/Natures-Civil-War-website-header-1-scaled.jpg
END:VEVENT
BEGIN:VEVENT
DTSTART;TZID=America/New_York:20250327T183000
DTEND;TZID=America/New_York:20250327T183000
DTSTAMP:20260421T125058
CREATED:20250228T212636Z
LAST-MODIFIED:20250228T212825Z
UID:10001007-1743100200-1743100200@acwm.org
SUMMARY:We Shall Conquer or Die: Partisan Warfare in 1862 Western Kentucky
DESCRIPTION:Virtual Book Talk with Derrick Lindow. \n\n\n\nJoin Derrick Lindow\, an award-winning history teacher and Civil War expert\, as he explores the little-known story of guerrilla warfare in Western Kentucky during 1862. This intense\, personal conflict\, fought behind the front lines\, pitted neighbor against neighbor and had a devastating impact on both lives and Union efforts. Lindow\, a Kentucky native and passionate historian\, brings fresh insights into this crucial yet overlooked chapter of the Civil War.
URL:https://acwm.org/event/we-shall-conquer-or-die-partisan-warfare-in-1862-western-kentucky/
CATEGORIES:Book Talk,Virtual Programs
ATTACH;FMTTYPE=image/jpeg:https://acwm.org/wp-content/uploads/Lindow_3.27.25_website-1-scaled.jpg
END:VEVENT
BEGIN:VEVENT
DTSTART;TZID=America/New_York:20250331T100000
DTEND;TZID=America/New_York:20250404T120000
DTSTAMP:20260421T125058
CREATED:20250310T171712Z
LAST-MODIFIED:20250310T175657Z
UID:10001010-1743415200-1743768000@acwm.org
SUMMARY:Mornings at the Museum! (Mar 31st\, Apr 2nd\, Apr 4th)
DESCRIPTION:Each day from 10 AM – 12 PM\, we will focus on one person from the Civil War with an Artifact Investigation! This hands-on activity lets students explore artifact reproductions to learn about the person of the day. \n\n\n\nMon\, March 31st: Elizabeth Van Lew \n\n\n\nWed\, April 2nd: Johnny Clem \n\n\n\nFri\, April 4th: Susie King Taylor \n\n\n\nKids will have a blast decoding secret messages\, drumming to Civil War beats\, and racing to unroll bandages in a fun-filled history adventure! \n\n\n\n(Suggested age K-5) \n\n\n\n\n\n\n\n\n\n\n\n\n\n\n\n\nDonations Appreciated\n\n\n\n\nDonate and support our education department\, so we can continue providing programming like this in the future!
URL:https://acwm.org/event/mornings-at-the-museum-mar-31st-apr-2nd-apr-4th/
LOCATION:ACWM – Historic Tredegar\, 480 Tredegar St.\, Richmond\, Virginia\, 23219\, United States
CATEGORIES:Richmond Events
ATTACH;FMTTYPE=image/png:https://acwm.org/wp-content/uploads/yyaay.png
END:VEVENT
END:VCALENDAR