BEGIN:VCALENDAR
VERSION:2.0
PRODID:-//American Civil War Museum - ECPv6.15.12.2//NONSGML v1.0//EN
CALSCALE:GREGORIAN
METHOD:PUBLISH
X-ORIGINAL-URL:https://acwm.org
X-WR-CALDESC:Events for American Civil War Museum
REFRESH-INTERVAL;VALUE=DURATION:PT1H
X-Robots-Tag:noindex
X-PUBLISHED-TTL:PT1H
BEGIN:VTIMEZONE
TZID:America/New_York
BEGIN:DAYLIGHT
TZOFFSETFROM:-0500
TZOFFSETTO:-0400
TZNAME:EDT
DTSTART:20240310T070000
END:DAYLIGHT
BEGIN:STANDARD
TZOFFSETFROM:-0400
TZOFFSETTO:-0500
TZNAME:EST
DTSTART:20241103T060000
END:STANDARD
BEGIN:DAYLIGHT
TZOFFSETFROM:-0500
TZOFFSETTO:-0400
TZNAME:EDT
DTSTART:20250309T070000
END:DAYLIGHT
BEGIN:STANDARD
TZOFFSETFROM:-0400
TZOFFSETTO:-0500
TZNAME:EST
DTSTART:20251102T060000
END:STANDARD
BEGIN:DAYLIGHT
TZOFFSETFROM:-0500
TZOFFSETTO:-0400
TZNAME:EDT
DTSTART:20260308T070000
END:DAYLIGHT
BEGIN:STANDARD
TZOFFSETFROM:-0400
TZOFFSETTO:-0500
TZNAME:EST
DTSTART:20261101T060000
END:STANDARD
END:VTIMEZONE
BEGIN:VEVENT
DTSTART;TZID=America/New_York:20250331T100000
DTEND;TZID=America/New_York:20250404T120000
DTSTAMP:20260421T110334
CREATED:20250310T171712Z
LAST-MODIFIED:20250310T175657Z
UID:10001010-1743415200-1743768000@acwm.org
SUMMARY:Mornings at the Museum! (Mar 31st\, Apr 2nd\, Apr 4th)
DESCRIPTION:Each day from 10 AM – 12 PM\, we will focus on one person from the Civil War with an Artifact Investigation! This hands-on activity lets students explore artifact reproductions to learn about the person of the day. \n\n\n\nMon\, March 31st: Elizabeth Van Lew \n\n\n\nWed\, April 2nd: Johnny Clem \n\n\n\nFri\, April 4th: Susie King Taylor \n\n\n\nKids will have a blast decoding secret messages\, drumming to Civil War beats\, and racing to unroll bandages in a fun-filled history adventure! \n\n\n\n(Suggested age K-5) \n\n\n\n\n\n\n\n\n\n\n\n\n\n\n\n\nDonations Appreciated\n\n\n\n\nDonate and support our education department\, so we can continue providing programming like this in the future!
URL:https://acwm.org/event/mornings-at-the-museum-mar-31st-apr-2nd-apr-4th/
LOCATION:ACWM – Historic Tredegar\, 480 Tredegar St.\, Richmond\, Virginia\, 23219\, United States
CATEGORIES:Richmond Events
ATTACH;FMTTYPE=image/png:https://acwm.org/wp-content/uploads/yyaay.png
END:VEVENT
BEGIN:VEVENT
DTSTART;TZID=America/New_York:20250403T183000
DTEND;TZID=America/New_York:20250403T200000
DTSTAMP:20260421T110334
CREATED:20250325T163454Z
LAST-MODIFIED:20250325T163459Z
UID:10001012-1743705000-1743710400@acwm.org
SUMMARY:Times Too Hard: Single African American Women in Post Civil War Virginia
DESCRIPTION:In Richmond\, Virginia\, Emancipation Day arrived on April 3\, 1865\, marking a historic moment of freedom. We are pleased to partner with The Black History Museum and Cultural Center of Virginia to commemorate this historic event. \n\n\n\nThis presentation examines the experiences of single Black women in Virginia after the Civil War. Despite significant challenges\, they actively sought agency through petitions for support and compensation. Their efforts influenced the responsibilities of federal and local agencies and played a key role in shaping concepts of freedom\, welfare\, citizenship\, and womanhood in the late 19th and early 20th centuries. \n\n\n\nArlisha R. Norwood is an Assistant Professor of History at the University of Maryland Eastern Shore. She earned her Ph.D. from Howard University\, specializing in 19th-century African American history\, gender\, and the Civil War. Her research focuses on single Black women in Civil War and Reconstruction-era Virginia\, and she is currently working on a manuscript titled To Never Truck with No Man: Single Black Women during the Civil War and Reconstruction. \n\n\n\nA recipient of multiple fellowships\, including from the Mellon Foundation\, Virginia Humanities\, and the National Archives Foundation\, Norwood is committed to making history accessible. She has contributed to projects with the National Women’s History Museum\, the National Park Service\, and the Smithsonian’s National Museum of African American History\, using innovative approaches to engage the public with the past.
URL:https://acwm.org/event/times-too-hard-single-african-american-women-in-post-civil-war-virginia/
LOCATION:The American Civil War Museum – Historic Tredegar\, 480 Tredegar St.\, Richmond\, Virginia\, 23219\, United States
CATEGORIES:Richmond Events
ATTACH;FMTTYPE=image/png:https://acwm.org/wp-content/uploads/Times-Too-Hard-Single-African-American-Women-in-Post-Civil-War-Virginia-Join-us-for-a-talk-on-single-Black-women-in-post-Civil-War-Virginia-with-Dr.-Arlisha-Norwood-exploring-resilience-advocacy-2.png
END:VEVENT
BEGIN:VEVENT
DTSTART;TZID=America/New_York:20250405T110000
DTEND;TZID=America/New_York:20250405T110000
DTSTAMP:20260421T110334
CREATED:20250404T201006Z
LAST-MODIFIED:20250404T201010Z
UID:10001016-1743850800-1743850800@acwm.org
SUMMARY:Tredegar History Tour (11AM/3PM Sat/Sun)
DESCRIPTION:Step into History at Tredegar! \n\n\n\nJoin us for a Tredegar History Tour—an engaging journey through the story of the former Tredegar Iron Works\, right in the heart of downtown Richmond.  \n\n\n\nTours take place every Saturday and Sunday at 11:00 AM and 3:00 PM\, and are included with your museum admission. \n\n\n\nExplore one of Richmond’s most iconic historical sites\, discover how cannons were made during the Civil War\, and check out our current exhibitions!
URL:https://acwm.org/event/tredegar-history-tour-11am-3pm-sat-sun/
LOCATION:The American Civil War Museum – Historic Tredegar\, 480 Tredegar St.\, Richmond\, Virginia\, 23219\, United States
CATEGORIES:Richmond Events,Tours
ATTACH;FMTTYPE=image/png:https://acwm.org/wp-content/uploads/image.png
END:VEVENT
BEGIN:VEVENT
DTSTART;TZID=America/New_York:20250410T180000
DTEND;TZID=America/New_York:20250410T190000
DTSTAMP:20260421T110334
CREATED:20250220T195915Z
LAST-MODIFIED:20250311T191814Z
UID:10001004-1744308000-1744311600@acwm.org
SUMMARY:The Surrenders of the Confederacy
DESCRIPTION:The Confederate surrender at Appomattox featured the stacking of arms\, the surrender of colors\, and the review of troops—a noble and orderly ceremony that has captured the American imagination for 160 years. But Appomattox was only the beginning of the end. Beyond Virginia\, the Confederacy surrendered in bits and pieces\, in a series of scattered events marked by confusion\, chaos\, and controversy lacking all of Appomattox’s romance and reconciliation. The last flag down wouldn’t even come until November. Join us for a trip to places American history has forgotten: Bennett Place\, North Carolina; Citronelle\, Alabama; Galveston\, Texas; Doaksville\, Oklahoma; and more. \n\n\n\nPresented by Dr. Chris Mackowski\, co-founder of Emerging Civil War
URL:https://acwm.org/event/the-surrenders-of-the-confederacy/
LOCATION:American Civil War Museum – Appomattox\, 159 Horseshoe Rd\, Appomattox\, Virginia\, 24522\, United States
CATEGORIES:Appomattox Events
ATTACH;FMTTYPE=image/jpeg:https://acwm.org/wp-content/uploads/Surrenders-Confed_4.10.25_website-scaled.jpg
END:VEVENT
BEGIN:VEVENT
DTSTART;TZID=America/New_York:20250412T090000
DTEND;TZID=America/New_York:20250413T170000
DTSTAMP:20260421T110334
CREATED:20250310T140339Z
LAST-MODIFIED:20250314T170127Z
UID:10001008-1744448400-1744563600@acwm.org
SUMMARY:Surrender Commemoration & Freedom Day Celebration
DESCRIPTION:The American Civil War Museum is hosting a series of activities and programs as part of the regional celebration of the Commemoration of the Surrender & Freedom Day. Visitors can look forward to a fun-filled day with cannon firings\, interactive sessions with living historians\, and informative sessions about the lives of soldiers\, civilians on the homefront\, and enslaved and free African Americans during the Civil War. \n\n\n\nWe hope you will join us on April 12th and 13th at ACWM – Appomattox! \n\n\n\nSaturday: \n\n\n\n\n9:00 AM – Federal and Confederate Encampments Open\n\n\n\n10:00 AM – 5:00 PM – Cabin Open: (Interpretation provided by the Pallas Athena Ladies Aid Society)\n\n\n\n11:00 AM – “In the nick of time”: U.S. Army of the James Arrives on the Field \n\nLocation: Cabin Field\n\n\n\n\n\n2:00 PM – “Boys\, get up\, the rebs are on us”: The Fate of the 11th Maine Infantry \n\nLocation: Cabin Field \n\n\n\n\n\n4:00 PM – Stacking of Arms\n\nLocation: The Garland Gray Terrace behind Museum\n\n\n\n\n\n\nSunday: \n\n\n\n\n9:00 AM – Federal and Confederate Encampments Open  \n\n\n\n10:00AM – 3:00PM – Cabin Open: (Interpretation provided by the Pallas Athena Ladies Aid Society)\n\n\n\n10:30 AM – Civil War Sunday Service with a USCT Chaplain\n\n\n\n11:00 AM – Cannon Firing Demonstration  \n\n\n\n11:30 AM – “Hold the enemy in check”: Captain Wilson Jenkins Makes a Last Stand\n\nLocation: Cabin Field \n\n\n\n\n\n12:30 PM – Life of a USCT Chaplain with Joseph Feaster\n\n\n\n1:00 PM – Cannon Firing Demonstration \n\nLocation: Portico off the Robertson Family Education Center    \n\n\n\n\n\n1:30 PM – Stacking of Arms \n\nLocation: The Garland Gray Terrace behind Museum \n\n\n\n\n\n2:00 PM – “A King’s Cure” Lecture with Michael Vorenberg\, Ph.D. \n\nSeparate registration needed or included in Museum ticket!\n\n\n\nLocation: Robertson Family Education Center \n\n\n\n\n\n3:00 PM – Cannon Firing Demonstration \n\nLocation: Portico off the Robertson Family Education Center  Location: Cabin Field \n\n\n\n\n\n3:30 PM – Life of a USCT Chaplain with Joseph Feaster
URL:https://acwm.org/event/surrender-commemoration-freedom-day-celebration/
LOCATION:American Civil War Museum – Appomattox\, 159 Horseshoe Rd\, Appomattox\, Virginia\, 24522\, United States
CATEGORIES:Appomattox Events
ATTACH;FMTTYPE=image/avif:https://acwm.org/wp-content/uploads/https___cdn.evbuc_.com_images_977351423_394202470645_1_original.avif
END:VEVENT
BEGIN:VEVENT
DTSTART;TZID=America/New_York:20250413T140000
DTEND;TZID=America/New_York:20250413T150000
DTSTAMP:20260421T110334
CREATED:20250310T203747Z
LAST-MODIFIED:20250310T203753Z
UID:10001009-1744552800-1744556400@acwm.org
SUMMARY:A King’s Cure: Abraham Lincoln and the Thirteenth Amendment
DESCRIPTION:On February 1\, 1865\, the day after Congress passed the resolution for the Thirteenth Amendment abolishing slavery\, a group of celebrants urged President Lincoln to speak on the occasion. Calling the amendment “a King’s cure for all the evils\,” Lincoln saw it as essential not just to ending slavery but to truly concluding the Civil War. \n\n\n\nMichael Vorenberg is the author of Final Freedom: The Civil War\, the Abolition of Slavery\, and the Thirteenth Amendment—a finalist for the Lincoln Prize and a basis for Spielberg’s 2012 film\, Lincoln. He has written extensively on legal and constitutional history and teaches at Brown University in Providence\, Rhode Island. \n\n\n\nHe has lectured widely on the Civil War\, Lincoln\, and the U.S. Constitution\, with writings in major publications like The New York Times and The Washington Post.
URL:https://acwm.org/event/a-kings-cure-abraham-lincoln-and-the-thirteenth-amendment/
LOCATION:American Civil War Museum – Appomattox\, 159 Horseshoe Rd\, Appomattox\, Virginia\, 24522\, United States
CATEGORIES:Appomattox Events
ATTACH;FMTTYPE=image/jpeg:https://acwm.org/wp-content/uploads/13th-Amendment-Vorenburg_APX_4.13.25_website-scaled.jpg
END:VEVENT
BEGIN:VEVENT
DTSTART;TZID=America/New_York:20250417T183000
DTEND;TZID=America/New_York:20250417T193000
DTSTAMP:20260421T110334
CREATED:20250401T162655Z
LAST-MODIFIED:20250401T162701Z
UID:10001014-1744914600-1744918200@acwm.org
SUMMARY:Virtual Book Talk – Hell by the Acre: A Narrative History of the Stones River Campaign with Dan A. Masters
DESCRIPTION:As 1862 drew to a close\, the United States faced a low point in the Civil War\, suffering major defeats at Fredericksburg and Chickasaw Bayou. With the Emancipation Proclamation set to take effect on January 1\, 1863\, Maj. Gen. William S. Rosecrans and the Army of the Cumberland were tasked with securing a decisive victory. \n\n\n\nJoin historian Dan Masters as he delves into the strategy\, tactics\, and key command decisions behind this crucial moment. Using archival and firsthand accounts—many previously unpublished—he brings to life the experiences of the soldiers who fought on the battlefield. \n\n\n\nDaniel A. Masters\, a University of Toledo graduate\, is a historian specializing in the Civil War’s Western Theater. Known for his blog Dan Masters’ Civil War Chronicles\, he has authored ten books and numerous articles. His 2017 book\, Sherman’s Praetorian Guard\, won a local history award\, and his latest\, Echoes of Battle (2022)\, was co-written with Larry M. Strayer.
URL:https://acwm.org/event/virtual-book-talk-hell-by-the-acre-a-narrative-history-of-the-stones-river-campaign-with-dan-a-masters/
CATEGORIES:Book Talk,Virtual Programs
ATTACH;FMTTYPE=image/png:https://acwm.org/wp-content/uploads/Hell-by-the-Acre-A-Narrative-History-with-Dan-A.-Master-Join-historian-Dan-Masters-as-he-uncovers-the-strategy-tactics-and-firsth-4-1.png
END:VEVENT
BEGIN:VEVENT
DTSTART;TZID=America/New_York:20250419T110000
DTEND;TZID=America/New_York:20250419T120000
DTSTAMP:20260421T110334
CREATED:20250408T165550Z
LAST-MODIFIED:20250417T165844Z
UID:10001017-1745060400-1745064000@acwm.org
SUMMARY:Tredegar History Tours every Saturday & Sunday at 11am and 3pm
DESCRIPTION:Take a guided tour of the former Tredegar Ironworks site with a museum historian! The tour is included with museum admission and available every Saturday & Sunday and 11am and 3pm. ACWM Tredegar – 490 Tredegar Street\, Richmond VA. 23219
URL:https://acwm.org/event/tredegar-history-tours-every-saturday-sunday-at-11am-and-3pm/
CATEGORIES:Richmond Events
ATTACH;FMTTYPE=image/png:https://acwm.org/wp-content/uploads/image.png
END:VEVENT
BEGIN:VEVENT
DTSTART;TZID=America/New_York:20250424T180000
DTEND;TZID=America/New_York:20250424T193000
DTSTAMP:20260421T110334
CREATED:20250227T153728Z
LAST-MODIFIED:20250227T160140Z
UID:10001005-1745517600-1745523000@acwm.org
SUMMARY:Jefferson Davis & Robert E. Lee
DESCRIPTION:Davis and Lee were two proud\, contained\, but otherwise very different personalities. In normal times it is unlikely they would have been friends. Yet somehow from 1862 through the end of the war they evolved a working relationship that produced almost a model commander-in-chief-general-in-chief team\, achieving seemingly impossible things\, even if ultimate victory eluded them. \n\n\n\nMember Reception 5:15 – 6:00 PM
URL:https://acwm.org/event/jefferson-davis-robert-e-lee/
CATEGORIES:Richmond Events
ATTACH;FMTTYPE=image/jpeg:https://acwm.org/wp-content/uploads/Davis-Lee_4.24.25_website-1-scaled.jpg
END:VEVENT
END:VCALENDAR