BEGIN:VCALENDAR
VERSION:2.0
PRODID:-//American Civil War Museum - ECPv6.15.12.2//NONSGML v1.0//EN
CALSCALE:GREGORIAN
METHOD:PUBLISH
X-ORIGINAL-URL:https://acwm.org
X-WR-CALDESC:Events for American Civil War Museum
REFRESH-INTERVAL;VALUE=DURATION:PT1H
X-Robots-Tag:noindex
X-PUBLISHED-TTL:PT1H
BEGIN:VTIMEZONE
TZID:America/New_York
BEGIN:DAYLIGHT
TZOFFSETFROM:-0500
TZOFFSETTO:-0400
TZNAME:EDT
DTSTART:20240310T070000
END:DAYLIGHT
BEGIN:STANDARD
TZOFFSETFROM:-0400
TZOFFSETTO:-0500
TZNAME:EST
DTSTART:20241103T060000
END:STANDARD
BEGIN:DAYLIGHT
TZOFFSETFROM:-0500
TZOFFSETTO:-0400
TZNAME:EDT
DTSTART:20250309T070000
END:DAYLIGHT
BEGIN:STANDARD
TZOFFSETFROM:-0400
TZOFFSETTO:-0500
TZNAME:EST
DTSTART:20251102T060000
END:STANDARD
BEGIN:DAYLIGHT
TZOFFSETFROM:-0500
TZOFFSETTO:-0400
TZNAME:EDT
DTSTART:20260308T070000
END:DAYLIGHT
BEGIN:STANDARD
TZOFFSETFROM:-0400
TZOFFSETTO:-0500
TZNAME:EST
DTSTART:20261101T060000
END:STANDARD
END:VTIMEZONE
BEGIN:VEVENT
DTSTART;TZID=America/New_York:20250515T183000
DTEND;TZID=America/New_York:20250515T193000
DTSTAMP:20260421T091436
CREATED:20250402T205504Z
LAST-MODIFIED:20250402T205509Z
UID:10001015-1747333800-1747337400@acwm.org
SUMMARY:Virtual Book Talk with Paul Brueske
DESCRIPTION:After the brutal battles of Franklin and Nashville in late 1864\, Union forces expected Mobile’s Confederate defenders to retreat without much resistance. But they were wrong. Despite being outnumbered\, 33-year-old Brig. Gen. Randall Lee Gibson led a determined and skillful defense that shocked his Union adversaries. \n\n\n\nJoin Civil War historian and author Paul Brueske as he explores the dramatic siege and battle of Mobile\, Alabama\, in 1865. Discover the tactics\, leadership\, and resilience that defined this final stand on the rugged bluffs of Mobile Bay’s eastern shore. \n\n\n\nPaul Brueske\, a lifelong Gulf Coast resident\, is the founder of the Mobile Area Civil War Round Table and author of The Last Siege: The Mobile Campaign\, Alabama 1865. He regularly lectures on Gulf Coast Civil War history and brings deep insight into this often-overlooked chapter of the war.
URL:https://acwm.org/event/virtual-book-talk-with-paul-brueske/
CATEGORIES:Book Talk,Virtual Programs
ATTACH;FMTTYPE=image/jpeg:https://acwm.org/wp-content/uploads/Digging_Brueske_5.15.25-website10-scaled.jpg
END:VEVENT
BEGIN:VEVENT
DTSTART;TZID=America/New_York:20250522T180000
DTEND;TZID=America/New_York:20250522T193000
DTSTAMP:20260421T091436
CREATED:20250227T162445Z
LAST-MODIFIED:20250227T162450Z
UID:10001006-1747936800-1747942200@acwm.org
SUMMARY:Abraham Lincoln & George McClellan
DESCRIPTION:This lecture examines General McClellan’s reputation as a skilled organizer but hesitant commander\, leading to his clash with President Lincoln. It will explore how their political rivalry shaped the course of the war. Supporters\, critics\, and the lasting debate over McClellan’s legacy will all be discussed. \n\n\n\nGeorge C. Rable is a renowned historian\, former professor at the University of Alabama\, and past president of the Society of Civil War Historians. He has authored several award-winning books on the Civil War\, Southern history\, and Reconstruction. His latest work\, Conflict of Command\, examines the relationship between George McClellan and Abraham Lincoln. \n\n\n\nMember reception 5:15pm – 6pm
URL:https://acwm.org/event/abraham-lincoln-george-mcclellan/
CATEGORIES:Richmond Events
ATTACH;FMTTYPE=image/jpeg:https://acwm.org/wp-content/uploads/Lincoln-McClellan_5.22.25_website-2-scaled.jpg
END:VEVENT
BEGIN:VEVENT
DTSTART;TZID=America/New_York:20250524T110000
DTEND;TZID=America/New_York:20250524T120000
DTSTAMP:20260421T091436
CREATED:20250421T132316Z
LAST-MODIFIED:20250519T125302Z
UID:10001018-1748084400-1748088000@acwm.org
SUMMARY:Tredegar History Tours every Saturday & Sunday at 11am and 3pm
DESCRIPTION:Take a guided tour of the former Tredegar Ironworks site with a museum historian! The tour is included with museum admission and available every Saturday & Sunday at 11am and 3pm. ACWM Tredegar – 480 Tredegar Street\, Richmond VA. 23219
URL:https://acwm.org/event/tredegar-history-tours-every-saturday-sunday-at-11am-and-3pm-2/
CATEGORIES:Richmond Events
ATTACH;FMTTYPE=image/png:https://acwm.org/wp-content/uploads/image.png
END:VEVENT
END:VCALENDAR