BEGIN:VCALENDAR
VERSION:2.0
PRODID:-//American Civil War Museum - ECPv6.15.12.2//NONSGML v1.0//EN
CALSCALE:GREGORIAN
METHOD:PUBLISH
X-WR-CALNAME:American Civil War Museum
X-ORIGINAL-URL:https://acwm.org
X-WR-CALDESC:Events for American Civil War Museum
REFRESH-INTERVAL;VALUE=DURATION:PT1H
X-Robots-Tag:noindex
X-PUBLISHED-TTL:PT1H
BEGIN:VTIMEZONE
TZID:America/New_York
BEGIN:DAYLIGHT
TZOFFSETFROM:-0500
TZOFFSETTO:-0400
TZNAME:EDT
DTSTART:20250309T070000
END:DAYLIGHT
BEGIN:STANDARD
TZOFFSETFROM:-0400
TZOFFSETTO:-0500
TZNAME:EST
DTSTART:20251102T060000
END:STANDARD
BEGIN:DAYLIGHT
TZOFFSETFROM:-0500
TZOFFSETTO:-0400
TZNAME:EDT
DTSTART:20260308T070000
END:DAYLIGHT
BEGIN:STANDARD
TZOFFSETFROM:-0400
TZOFFSETTO:-0500
TZNAME:EST
DTSTART:20261101T060000
END:STANDARD
BEGIN:DAYLIGHT
TZOFFSETFROM:-0500
TZOFFSETTO:-0400
TZNAME:EDT
DTSTART:20270314T070000
END:DAYLIGHT
BEGIN:STANDARD
TZOFFSETFROM:-0400
TZOFFSETTO:-0500
TZNAME:EST
DTSTART:20271107T060000
END:STANDARD
END:VTIMEZONE
BEGIN:VEVENT
DTSTART;TZID=America/New_York:20260202T120000
DTEND;TZID=America/New_York:20260202T124500
DTSTAMP:20260420T160610
CREATED:20251201T200538Z
LAST-MODIFIED:20251201T200543Z
UID:10001062-1770033600-1770036300@acwm.org
SUMMARY:Lunch & Learn: Voices of Abolition
DESCRIPTION:Part of our Lunch & Learn series! Bring your own lunch (or feel free to grab something to go from our neighbor\, Daisy’s) and join us for this noontime talk in the ACWM—Tredegar lobby!\n\n\n\n\n\n\n\nFebruary Topic:\n\n\n\nVoices of Abolition with Kelly Hancock\n\n\n\nIn 1830\, the first Negro Convention was held\, marking the beginning of Black involvement in the abolition movement. However\, the contributions of a few African Americans\, with the exception of Frederick Douglass\, are widely unknown today. From debates over colonization to moral suasion and outright violence\, African Americans were at the forefront of shaping and maintaining the movement. This talk will shed light on several key individuals and their persistent efforts to bring about the end of slavery and achieve equality under the law. \n\n\n\n\n\n\n\nIncluded with Museum Admission/ Free to Members
URL:https://acwm.org/event/lunch-learn-voices-of-abolition/
CATEGORIES:For Educators,Lectures,Richmond Events
ATTACH;FMTTYPE=image/jpeg:https://acwm.org/wp-content/uploads/LL-Abolition_2.2025-web-scaled.jpg
END:VEVENT
BEGIN:VEVENT
DTSTART;TZID=America/New_York:20260212T183000
DTEND;TZID=America/New_York:20260212T203000
DTSTAMP:20260420T160610
CREATED:20260130T221035Z
LAST-MODIFIED:20260130T221039Z
UID:10001069-1770921000-1770928200@acwm.org
SUMMARY:Appomattox in Black\, White\, Blue\, & Gray
DESCRIPTION:Join us at The American Civil War Museum–Appomattox on Thursday\, February 12\, 2026\, for a living history presentation and lecture by Reverend Alfred Jones. Hear the story of Hannah Reynolds\, an enslaved woman\, unfold through the eyes of her husband\, Abe Reynolds\, as he recounts the final days of her life from April 9 to 12\, 1865. Gravely wounded during the Battle of Appomattox Court House\, Hannah would succumb to her injuries—but not before becoming a free woman. \n\n\n\nFollowing the performance\, Reverend Jones will conclude the evening with his presentation\, “Appomattox in Black\, White\, Blue\, & Gray\,” exploring the diverse and complex community that made up Appomattox County in the 1860s. \n\n\n\nFree for members.
URL:https://acwm.org/event/appomattox-in-black-white-blue-gray/
CATEGORIES:Appomattox Events,For Educators,For Students,Lectures,Performance,Tours
ATTACH;FMTTYPE=image/png:https://acwm.org/wp-content/uploads/website-graphics-1-1.png
END:VEVENT
BEGIN:VEVENT
DTSTART;TZID=America/New_York:20260214T084500
DTEND;TZID=America/New_York:20260214T173000
DTSTAMP:20260420T160610
CREATED:20251030T203907Z
LAST-MODIFIED:20260212T171809Z
UID:10001058-1771058700-1771090200@acwm.org
SUMMARY:Relationships Forged in War Symposium (February 13—15)
DESCRIPTION:About the Symposium:\n\n\n\nThe American Civil War was not only a clash of armies and ideologies\, but it also shaped and tested loyalty\, friendship\, family\, and enmity on the battlefield and within the halls of government across a divided nation. The 2026 ACWM Symposium will explore human connections that emerged from conflict.\n\n\n\nSymposium daylong event occurs on Saturday\, February 14\, 2026 from 9:30am-5:30pm. Doors Open: 8:45am \n\n\n\n\n\n\n\nNew to the symposium this year:\n\n\n\nA full weekend Civil War history experience you may customize to your schedule and interests.This year we are pleased to provide more options and more opportunities to engage with the museum\, symposium speakers\, and our historians! Join small group tours of the collections\, a special “Meet the Speakers” Q&A program and private reception in the museum\, and ACWM historian-led battlefield tours on Friday and Sunday! Scroll down for more details.\n\n\n\n\n\n\n\nLECTURES WILL BE PRESENTED BY:\n\n\n\n•Dr. Jonathan White\, Professor of American Studies\, Christopher Newport University“Unlikely Collaborators: Frederick Douglass\, Abraham Lincoln\, and the Promise of America” \n\n\n\n•Dr. Brandi Brimmer\, Morehead-Cain Alumni Associate Professor\, Director of Graduate Studies\, Department of African\, African American\, and Diaspora Studies\, The University of North Carolina at Chapel Hill.“Black Women\, Civil War Memory\, and the U.S. Pension Bureaucracy” \n\n\n\n•Dr. William C. “Jack” Davis\, retired Executive Director of the Virginia Center for Civil War Studies and Professor of History at Virginia Tech.“Davis\, Johnston\, and Beauregard–The Triple-play that Crippled the Confederacy” \n\n\n\n•Dr. Lindsay Privette\, Associate Professor of History\, Anderson University“Together at Vicksburg: Exploring the Bonds Between Commanders\, Surgeons\, and Soldiers” \n\n\n\n•Dr. Caroline Janney\, John L Nau\, III\, Professor in History of American Civil War\, Director\, John L. Nau III Center for Civil War History“From Partisan Warrior to Family Man: The Personal Relationships of John S. Mosby” \n\n\n\n\n\n\n\n\n\n\n\nticket options:\n\n\n\nTICKET TYPES•General – $100•Member – $75•Student – $35 \n\n\n\nADD-ONS•Friday: “Relationships Forged in War” Themed Collections Tours – $25 per person•Friday: Meet the Speakers & Reception in the Museum– $40•Saturday: Lunch – $12.50 (No Longer Accepting Lunch Orders) \n\n\n\n•Friday & Sunday: Battlefield Tour – $35 PER PERSON \n\n\n\n\n\n\n\nFRIDAY PROGRAM:\n\n\n\nMeet the Speakers Q&A Program & Reception in the Museum\n\n\n\nJoin us Friday from 5-7:00pm at ACWM–Tredegar for the “Meet the Speakers” program. The talk starts in the auditorium at 5PM\, followed by a reception at 6PM. \n\n\n\n\nFriday\, February 13th\, 2026\n\n\n\n5:00pm – 7:00pm\n\n\n\n\n\n\n\n\nCollections TOURS:\n\n\n\n“Relationships Forged in War” Themed Collections Tours\n\n\n\nJoin us Friday at ACWM-Tredegar for a “Relationships Forged in War” themed Collections Tour! Enjoy an intimate 8-person tour of our artifact collection led by Director of Collections\, Robert Hancock. \n\n\n\n\nFriday\, February 13th\, 2026\n\n\n\nSlot Times: 2pm\, 3pm\, 4pm\n\n\n\n\n\n\n\n\nBattlefield Tours:\n\n\n\nCaravan tours: participants will drive their own vehicles to meet an ACWM historic site interpreter at the stops for an overview of troop movements and battles. \n\n\n\n\n\n\n\nOverland Campaign\n\n\n\n\nFriday\, February 13th\, 2026\n\n\n\n9:00am – 3:00pm\n\n\n\n\nThe tour begins at the Germanna Visitor Center (2062 Germanna Hwy\, Locust Grove VA) near the site where Grant’s army crossed the Rapidan River to begin the campaign. From there\, the tour proceeds through the Wilderness Battlefield (NPS)\, stopping at Saunders Field and the Widow Tapp Farm. Following the route taken by Grant’s army\, the tour moves on to the Spotsylvania Courthouse Battlefield (NPS) with stops at Laurel Hill\, the Muleshoe\, and the fortification exhibit. From there\, the tour continues on to the North Anna Battlefield site\, then to the Totopotomoy Creek Battlefield (NPS)\, and finally the Cold Harbor Battlefield (NPS). At Cold Harbor\, the group will be able to briefly explore the earthworks. \n\n\n\n\n\n\n\nAppomattox Campaign\n\n\n\n\nSunday\, February 15th\, 2026\n\n\n\n9:00am – 3:00pm\n\n\n\n\nThe caravan tour begins at ACWM-Tredegar and follows the retreat route of General Richard S. Ewell’s Richmond defense forces. The first stop will be at Branch’s Baptist Church\, where General Custis Lee’s forces from the Chaffin’s Bluff defenses joined the main marching column. The tour proceeds to Mt. Zion Road near Jetersville for the story of Amelia Court House and the retreat’s westward turn\, before stopping at Deatonville and Sayler’s Creek Battlefield (VSP). From there\, the tour makes its way to Farmville\, the Cumberland Church battlefield\, Clifton (Grant’s headquarters from April 8-9)\, and New Hope Church (Confederate rear guard April 8-9). The tour concludes at ACWM-Appomattox with a talk about the Battle of Appomattox Station and the group doing a self-guided tour of the museum galleries. \n\n\n\n\n\n\n\nSATURDAY’S Daylong SYMPOSIUM SCHEDULE:\n\n\n\n\n8:45–9:30 AM – Check-in\n\n\n\n9:30 AM – Opening Remarks\n\n\n\n9:40–10:40 AM – Dr. Jonathan White\, Christopher Newport University “Unlikely Collaborators: Frederick Douglass\, Abraham Lincoln\, and the Promise of America” and Q&A\n\n\n\n11:00 AM–12:00 PM – Dr. Lindsay Privette\, Anderson University “Together at Vicksburg: Exploring the Bonds Between Commanders\, Surgeons\, and Soldiers” and Q&A\n\n\n\n12:00PM – Lunch\n\n\n\n1:00–2:00 PM – Dr. Caroline Janney\, University of Virginia “From Partisan Warrior to Family Man: The Personal Relationships of John S. Mosby” and Q&A\n\n\n\n2:20–3:20 PM – Dr. Brandi Brimmer\, University of North Carolina at Chapel Hill “Black Women\, Civil War Memory\, and the U.S. Pension Bureaucracy” and Q&A\n\n\n\n3:40–4:40 PM – Dr. William C. “Jack” Davis\, Virginia Tech (ret.) “Davis\, Johnston\, and Beauregard—The Triple-Play that Crippled the Confederacy” and Q&A\n\n\n\n4:40 PM – Closing Remarks\n\n\n\n5:00–5:30 PM – Book Signing\n\n\n\n\n\n\n\n\nBook your hotel room for the event at special rates\, available here on an exclusive basis. \n\n\n\n\nAmerican Civil War Museum Courtesy Block – Richmond Marriott Downtown\n\n\n\n\n\n\n\n\n\n\n\n\nIn partnership with The John L. Nau Center for Civil War Studies at the University of Virginia.
URL:https://acwm.org/event/relationships-forged-in-war-symposium-february-13-15/
CATEGORIES:For Educators,For Students,Lectures,Richmond Events,Symposium,Tours
ATTACH;FMTTYPE=image/jpeg:https://acwm.org/wp-content/uploads/2026-Symposium_web-scaled.jpg
END:VEVENT
BEGIN:VEVENT
DTSTART;TZID=America/New_York:20260219T183000
DTEND;TZID=America/New_York:20260219T193000
DTSTAMP:20260420T160610
CREATED:20260108T180201Z
LAST-MODIFIED:20260108T180552Z
UID:10001068-1771525800-1771529400@acwm.org
SUMMARY:The Invincible Twelfth with Benjamin Cwayna
DESCRIPTION:Join Benjamin L. Cwayna for a virtual talk on the “Invincible Twelfth” and the bold\, costly legacy of the 12th South Carolina Infantry. \n\n\n\nThe 12th South Carolina Infantry took part in nearly every major engagement of the war in the Eastern Theater and earned a sterling reputation for its drill and discipline. It became known for its impetuous\, devastating\, and sometimes reckless attacks and counterattacks. This boldness came at a heavy cost: by the war’s end\, only about 150 of the nearly 1\,400 men who served in the regiment’s ranks surrendered at Appomattox Court House. \n\n\n\nJoin Benjamin L. Cwayna for this virtual talk to discover what years of research and exhaustive study of primary sources have revealed about the “invincible Twelfth.”
URL:https://acwm.org/event/the-invincible-twelfth-with-benjamin-cwayna/
CATEGORIES:Book Talk,For Educators,For Students,Lectures,Virtual Programs
ATTACH;FMTTYPE=image/png:https://acwm.org/wp-content/uploads/Benjamin-L.-Cwayna_TheInvincible12th_2.2026_Web.png
END:VEVENT
END:VCALENDAR