BEGIN:VCALENDAR
VERSION:2.0
PRODID:-//American Civil War Museum - ECPv6.15.12.2//NONSGML v1.0//EN
CALSCALE:GREGORIAN
METHOD:PUBLISH
X-WR-CALNAME:American Civil War Museum
X-ORIGINAL-URL:https://acwm.org
X-WR-CALDESC:Events for American Civil War Museum
REFRESH-INTERVAL;VALUE=DURATION:PT1H
X-Robots-Tag:noindex
X-PUBLISHED-TTL:PT1H
BEGIN:VTIMEZONE
TZID:America/New_York
BEGIN:DAYLIGHT
TZOFFSETFROM:-0500
TZOFFSETTO:-0400
TZNAME:EDT
DTSTART:20230312T070000
END:DAYLIGHT
BEGIN:STANDARD
TZOFFSETFROM:-0400
TZOFFSETTO:-0500
TZNAME:EST
DTSTART:20231105T060000
END:STANDARD
BEGIN:DAYLIGHT
TZOFFSETFROM:-0500
TZOFFSETTO:-0400
TZNAME:EDT
DTSTART:20240310T070000
END:DAYLIGHT
BEGIN:STANDARD
TZOFFSETFROM:-0400
TZOFFSETTO:-0500
TZNAME:EST
DTSTART:20241103T060000
END:STANDARD
BEGIN:DAYLIGHT
TZOFFSETFROM:-0500
TZOFFSETTO:-0400
TZNAME:EDT
DTSTART:20250309T070000
END:DAYLIGHT
BEGIN:STANDARD
TZOFFSETFROM:-0400
TZOFFSETTO:-0500
TZNAME:EST
DTSTART:20251102T060000
END:STANDARD
END:VTIMEZONE
BEGIN:VEVENT
DTSTART;TZID=America/New_York:20240607T110000
DTEND;TZID=America/New_York:20240607T114500
DTSTAMP:20260421T223519
CREATED:20240528T174717Z
LAST-MODIFIED:20240528T174719Z
UID:10000941-1717758000-1717760700@acwm.org
SUMMARY:Guided tour of our new exhibit 'The Impending Crisis' every Friday in June at 11am!
DESCRIPTION:Don’t miss the opportunity for a guided tour of our latest exhibit!
URL:https://acwm.org/event/guided-tour-of-our-new-exhibit-the-impending-crisis-every-friday-in-june-at-11am/
CATEGORIES:Family-Friendly,For Educators,For Students,Richmond Events,Tours
ATTACH;FMTTYPE=image/jpeg:https://acwm.org/wp-content/uploads/ACWM_DSC_4569-sm.jpg
END:VEVENT
BEGIN:VEVENT
DTSTART;TZID=America/New_York:20240601T110000
DTEND;TZID=America/New_York:20240601T120000
DTSTAMP:20260421T223520
CREATED:20240528T173338Z
LAST-MODIFIED:20240528T173341Z
UID:10000940-1717239600-1717243200@acwm.org
SUMMARY:Tredegar History Tour 11am & 3pm + Musket Firing Demonstrations at 1pm! Every Saturday & Sunday all summer!
DESCRIPTION:Find yourself in history on a guided tour of the former Tredegar Iron Works site & musket firing demonstrations by our historic interpretation team all included with museum admission! Plan your visit today!
URL:https://acwm.org/event/tredegar-history-tour-11am-3pm-musket-firing-demonstrations-at-1pm-every-saturday-sunday-all-summer/
CATEGORIES:Family-Friendly,For Educators,For Students,Performance,Richmond Events,Tours
ATTACH;FMTTYPE=image/jpeg:https://acwm.org/wp-content/uploads/Tredegar-ironworks-tour-square.jpg
END:VEVENT
BEGIN:VEVENT
DTSTART;TZID=America/New_York:20240530T183000
DTEND;TZID=America/New_York:20240530T193000
DTSTAMP:20260421T223520
CREATED:20240206T155723Z
LAST-MODIFIED:20240416T181358Z
UID:10000178-1717093800-1717097400@acwm.org
SUMMARY:“The Grand Old Man of the Army: General Winfield Scott’s Unionism and the Secession Crisis” with Dr. Barton A. Myers￼
DESCRIPTION:General Winfield Scott\, the General in Chief of the U.S. Army\, is an important but often overlooked figure of the late antebellum period. He played a crucial role in the American government for two decades before the Civil War. This raises questions about how his stance on slavery\, abolition\, and unionism influenced his decisions between 1860 and 1861. To explore his personal loyalty\, we will analyze his relationships with notable figures like James Buchanan\, John B. Floyd\, Abraham Lincoln\, and Robert E. Lee\, among others\, during the sectional crisis. Join us for a discussion with Dr. Barton A. Myers of Washington and Lee University.\n\n\n\nBarton A. Myers is Professor of History at Washington and Lee University and the author of the awarding winning Executing Daniel Bright: Race\, Loyalty\, and Guerrilla Violence in a Coastal Carolina Community\, 1861-1865 (LSU Press\, 2009)\, Rebels Against the Confederacy: North Carolina’s Unionists (Cambridge Univ. Press\, 2014)\, and co-editor with Brian D. McKnight of The Guerrilla Hunters: Irregular Conflicts during the Civil War (LSU Press\, 2017). Dr. Myers is a recipient of prestigious grants and fellowships from the National Endowment for the Humanities\, the Gilder-Lehrman Institute of American History\, the Harry Frank Guggenheim Foundation\, the Andrew W. Mellon Foundation\, the Marine Corps Historical Center\, the Filson Historical Society\, the Virginia Historical Society\, and the Jack Miller Center for Teaching America’s Founding Principles and History. He speaks widely to Civil War groups and roundtables around the United States. Dr. Myers’ work has been featured in the national media\, including Time\, Los Angeles Times\, the Richmond Times-Dispatch\, Smerconish.com\, Sirius XM’s “The Michael Smerconish Program”\, CSPAN’s “American History TV”\, National Public Radio’s Virginia Insight\, and the Civil War Monitor. He was featured in the acclaimed HISTORY Channel documentary series GRANT\, produced by Leonardo DiCaprio and historian Ron Chernow\, as well as the HISTORY Channel miniseries event ABRAHAM LINCOLN\, featuring President Barack Obama and produced by historian Doris Kearns Goodwin. Most recently\, he served as an expert in the HISTORY series “DARK MARVELS” on the world history of diabolical military technology.  \n\n\n\n\n\n\n\nAll sales are final. Tickets and registrations are non-refundable unless the American Civil War Museum cancels an event.\n\n\n\n\n\n\nRegister on Eventbrite\n\n\n\n\n\n\n\nJoin us for our Spring Lecture Series as we delve into the causes\, course\, and consequences of the Civil War\, from abolition through Reconstruction\, as part of our extensive initiative “The Civil War & Remaking America” and prepare to open our newest exhibition\, The Impending Crisis in Spring 2024!
URL:https://acwm.org/event/grand-old-man-of-the-army-myers/
LOCATION:ACWM – Historic Tredegar\, 480 Tredegar St.\, Richmond\, Virginia\, 23219\, United States
CATEGORIES:Richmond Events
ATTACH;FMTTYPE=image/png:https://acwm.org/wp-content/uploads/grand-old-man-barton-header.png
END:VEVENT
BEGIN:VEVENT
DTSTART;TZID=America/New_York:20240527T110000
DTEND;TZID=America/New_York:20240527T120000
DTSTAMP:20260421T223520
CREATED:20240524T000752Z
LAST-MODIFIED:20240524T005000Z
UID:10000938-1716807600-1716811200@acwm.org
SUMMARY:Tredegar site tour 11am & 3pm with musket firing demonstration at 1pm! Plan your Memorial Day visit!
DESCRIPTION:Find yourself in history on a guided tour of the former Tredegar Ironworks! Tours are at 11am and 3pm with musket firing demonstrations at 1pm.
URL:https://acwm.org/event/tredegar-site-tour-11am-3pm-with-musket-firing-demonstration-at-1pm-plan-your-memorial-day-visit/
CATEGORIES:Family-Friendly,For Educators,For Students,Richmond Events,Tours
ATTACH;FMTTYPE=image/jpeg:https://acwm.org/wp-content/uploads/IMG_8704-1.jpg
END:VEVENT
BEGIN:VEVENT
DTSTART;TZID=America/New_York:20240526T110000
DTEND;TZID=America/New_York:20240526T114500
DTSTAMP:20260421T223520
CREATED:20240409T150933Z
LAST-MODIFIED:20240521T170844Z
UID:10000216-1716721200-1716723900@acwm.org
SUMMARY:Tredegar History Tour
DESCRIPTION:Find yourself in the fascinating history of the former Tredegar Iron Works with our “Tredegar History Tour”! Located in the heart of downtown Richmond\, our museum is situated on the very site where the iron foundry once stood.\n\n\n\nMEMORIAL DAY WEEKEND (Saturday\, Sunday & Monday) at 11:00 AM or 3:00 PM to explore one of Richmond’s famous historical sites and learn about the cannon-making process in a special site tour. We’re also doing musket firing demonstrations at 1pm each day this weekend! (included with Museum admission). You don’t want to miss it!
URL:https://acwm.org/event/tredegar-history-tour-2/2024-05-26/
LOCATION:ACWM – Historic Tredegar\, 480 Tredegar St.\, Richmond\, Virginia\, 23219\, United States
CATEGORIES:Richmond Events,Tours
ATTACH;FMTTYPE=image/png:https://acwm.org/wp-content/uploads/tredegar-history-tour-1.png
END:VEVENT
BEGIN:VEVENT
DTSTART;TZID=America/New_York:20240525T110000
DTEND;TZID=America/New_York:20240525T114500
DTSTAMP:20260421T223520
CREATED:20240409T150933Z
LAST-MODIFIED:20240521T170844Z
UID:10000214-1716634800-1716637500@acwm.org
SUMMARY:Tredegar History Tour
DESCRIPTION:Find yourself in the fascinating history of the former Tredegar Iron Works with our “Tredegar History Tour”! Located in the heart of downtown Richmond\, our museum is situated on the very site where the iron foundry once stood.\n\n\n\nMEMORIAL DAY WEEKEND (Saturday\, Sunday & Monday) at 11:00 AM or 3:00 PM to explore one of Richmond’s famous historical sites and learn about the cannon-making process in a special site tour. We’re also doing musket firing demonstrations at 1pm each day this weekend! (included with Museum admission). You don’t want to miss it!
URL:https://acwm.org/event/tredegar-history-tour-2/2024-05-25/
LOCATION:ACWM – Historic Tredegar\, 480 Tredegar St.\, Richmond\, Virginia\, 23219\, United States
CATEGORIES:Richmond Events,Tours
ATTACH;FMTTYPE=image/png:https://acwm.org/wp-content/uploads/tredegar-history-tour-1.png
END:VEVENT
BEGIN:VEVENT
DTSTART;TZID=America/New_York:20240519T110000
DTEND;TZID=America/New_York:20240519T114500
DTSTAMP:20260421T223520
CREATED:20240409T150933Z
LAST-MODIFIED:20240521T170844Z
UID:10000212-1716116400-1716119100@acwm.org
SUMMARY:Tredegar History Tour
DESCRIPTION:Find yourself in the fascinating history of the former Tredegar Iron Works with our “Tredegar History Tour”! Located in the heart of downtown Richmond\, our museum is situated on the very site where the iron foundry once stood.\n\n\n\nMEMORIAL DAY WEEKEND (Saturday\, Sunday & Monday) at 11:00 AM or 3:00 PM to explore one of Richmond’s famous historical sites and learn about the cannon-making process in a special site tour. We’re also doing musket firing demonstrations at 1pm each day this weekend! (included with Museum admission). You don’t want to miss it!
URL:https://acwm.org/event/tredegar-history-tour-2/2024-05-19/
LOCATION:ACWM – Historic Tredegar\, 480 Tredegar St.\, Richmond\, Virginia\, 23219\, United States
CATEGORIES:Richmond Events,Tours
ATTACH;FMTTYPE=image/png:https://acwm.org/wp-content/uploads/tredegar-history-tour-1.png
END:VEVENT
BEGIN:VEVENT
DTSTART;TZID=America/New_York:20240518T110000
DTEND;TZID=America/New_York:20240518T114500
DTSTAMP:20260421T223520
CREATED:20240409T150933Z
LAST-MODIFIED:20240521T170844Z
UID:10000210-1716030000-1716032700@acwm.org
SUMMARY:Tredegar History Tour
DESCRIPTION:Find yourself in the fascinating history of the former Tredegar Iron Works with our “Tredegar History Tour”! Located in the heart of downtown Richmond\, our museum is situated on the very site where the iron foundry once stood.\n\n\n\nMEMORIAL DAY WEEKEND (Saturday\, Sunday & Monday) at 11:00 AM or 3:00 PM to explore one of Richmond’s famous historical sites and learn about the cannon-making process in a special site tour. We’re also doing musket firing demonstrations at 1pm each day this weekend! (included with Museum admission). You don’t want to miss it!
URL:https://acwm.org/event/tredegar-history-tour-2/2024-05-18/
LOCATION:ACWM – Historic Tredegar\, 480 Tredegar St.\, Richmond\, Virginia\, 23219\, United States
CATEGORIES:Richmond Events,Tours
ATTACH;FMTTYPE=image/png:https://acwm.org/wp-content/uploads/tredegar-history-tour-1.png
END:VEVENT
BEGIN:VEVENT
DTSTART;TZID=America/New_York:20240516T183000
DTEND;TZID=America/New_York:20240516T193000
DTSTAMP:20260421T223520
CREATED:20240216T153358Z
LAST-MODIFIED:20240425T141857Z
UID:10000180-1715884200-1715887800@acwm.org
SUMMARY:Book Talk with Jim Downs - "Maladies of Empire: How Colonialism\, Slavery\, and War Transformed Medicine"
DESCRIPTION:Virtual Book Talk\n\n\n\n\n\n\n\nJoin us as historian Jim Downs reveals that the study of infectious disease depended crucially on the unrecognized contributions of non-consenting subjects―conscripted soldiers\, enslaved people\, and subjects of the empire.\n\n\n\nPlantations\, slave ships\, and battlefields were the laboratories in which physicians came to understand the spread of disease. Military doctors learned about the importance of air quality by monitoring Africans confined to the bottom of slave ships. The field hospitals of the Crimean War and the US Civil War were carefully observed experiments in disease transmission.\n\n\n\nJim Downs is the Gilder Lehrman-National Endowment for the Humanities Professor of Civil War Era Studies and History. He is the author\, co-author\, and editor of multiple books and anthologies\, including Maladies of Empire: How Colonialism\, Slavery\, and War Transformed Medicine (Harvard UP\, 2021)\, which has been translated into Chinese\, French\, Korean\, Japanese\, and Russian.\n\n\n\nHe has published articles and essays in The Atlantic\, The New Yorker\, Slate\, Vice\, The New York Times\, The Washington Post\, The Chronicle of Higher Education\, and The L.A. Review of Books\, among others. Downs has published book chapters in several edited volumes\, most recently in Remembering the Memphis Massacre: An American Story (UGA Press\, 2020). Downs is the Editor of Civil War History. He was awarded the Sheila Biddle Ford Foundation Fellowship at the Hutchins Center for African and African American History at Harvard University in 2022-23. Downs earned his P.h.D. in History at Columbia University\, his MA in American Studies also at Columbia University\, and his BA in American Literature at the University of Pennsylvania. The Organization of American Historians named him a Distinguished Lecturer in 2014-17\, which was then renewed in 2017 and again in 2020. \n\n\n\n\n\n\n\n\nReexamining the foundations of modern medicine\, Jim Downs shows that the study of infectious disease depended crucially on the unrecognized contributions of nonconsenting subjects―conscripted soldiers\, enslaved people\, and subjects of empire. Plantations\, slave ships\, and battlefields were the laboratories in which physicians came to understand the spread of disease.\n\n\n\n\nPurchase Book\n\n\n\n\nThank you for supporting our mission by purchasing through our online store. Your contribution enables us to continue providing engaging events and experiences.\n\n\n\n\n\n\n\nRegister on Eventbrite
URL:https://acwm.org/event/book-talk-with-jim-downs/
LOCATION:Virtual
CATEGORIES:Virtual Programs
ATTACH;FMTTYPE=image/png:https://acwm.org/wp-content/uploads/maladies-of-empire-header.png
END:VEVENT
BEGIN:VEVENT
DTSTART;TZID=America/New_York:20240512T110000
DTEND;TZID=America/New_York:20240512T114500
DTSTAMP:20260421T223520
CREATED:20240409T150933Z
LAST-MODIFIED:20240521T170844Z
UID:10000208-1715511600-1715514300@acwm.org
SUMMARY:Tredegar History Tour
DESCRIPTION:Find yourself in the fascinating history of the former Tredegar Iron Works with our “Tredegar History Tour”! Located in the heart of downtown Richmond\, our museum is situated on the very site where the iron foundry once stood.\n\n\n\nMEMORIAL DAY WEEKEND (Saturday\, Sunday & Monday) at 11:00 AM or 3:00 PM to explore one of Richmond’s famous historical sites and learn about the cannon-making process in a special site tour. We’re also doing musket firing demonstrations at 1pm each day this weekend! (included with Museum admission). You don’t want to miss it!
URL:https://acwm.org/event/tredegar-history-tour-2/2024-05-12/
LOCATION:ACWM – Historic Tredegar\, 480 Tredegar St.\, Richmond\, Virginia\, 23219\, United States
CATEGORIES:Richmond Events,Tours
ATTACH;FMTTYPE=image/png:https://acwm.org/wp-content/uploads/tredegar-history-tour-1.png
END:VEVENT
BEGIN:VEVENT
DTSTART;TZID=America/New_York:20240511T110000
DTEND;TZID=America/New_York:20240511T114500
DTSTAMP:20260421T223520
CREATED:20240409T150933Z
LAST-MODIFIED:20240521T170844Z
UID:10000206-1715425200-1715427900@acwm.org
SUMMARY:Tredegar History Tour
DESCRIPTION:Find yourself in the fascinating history of the former Tredegar Iron Works with our “Tredegar History Tour”! Located in the heart of downtown Richmond\, our museum is situated on the very site where the iron foundry once stood.\n\n\n\nMEMORIAL DAY WEEKEND (Saturday\, Sunday & Monday) at 11:00 AM or 3:00 PM to explore one of Richmond’s famous historical sites and learn about the cannon-making process in a special site tour. We’re also doing musket firing demonstrations at 1pm each day this weekend! (included with Museum admission). You don’t want to miss it!
URL:https://acwm.org/event/tredegar-history-tour-2/2024-05-11/
LOCATION:ACWM – Historic Tredegar\, 480 Tredegar St.\, Richmond\, Virginia\, 23219\, United States
CATEGORIES:Richmond Events,Tours
ATTACH;FMTTYPE=image/png:https://acwm.org/wp-content/uploads/tredegar-history-tour-1.png
END:VEVENT
BEGIN:VEVENT
DTSTART;TZID=America/New_York:20240509T180000
DTEND;TZID=America/New_York:20240509T190000
DTSTAMP:20260421T223520
CREATED:20240412T194432Z
LAST-MODIFIED:20240412T194439Z
UID:10000191-1715277600-1715281200@acwm.org
SUMMARY:"The Unvanquished" with Patrick O'Donnell
DESCRIPTION:The Unvanquished: The Untold Story of Lincoln’s Special Forces\, the Manhunt for Mosby’s Rangers\, and the Shadow War That Forged America’s Special Operations\n\n\n\n\nThe Civil War is famously known for the huge battles that defined it such as Gettysburg\, Antietam\, and Shiloh. However\, bestselling author Patrick K. O’Donnell reveals in his book The Unvanquished that there was a crucial shadow war that took place amid and away from the major battlefields\, which was in many ways just as consequential to the conflict’s outcome. At the center of this groundbreaking narrative is the remarkable story of Lincoln’s special forces – the Jessie Scouts – told in its entirety for the first time. \n\n\n\nPatrick K. O’Donnell is a bestselling\, critically acclaimed military historian and an expert on elite units. The author of thirteen books\, including The Indispensables\, The Unknowns\, and Washington’s Immortals\, he is the recipient of numerous national awards. O’Donnell served as a combat historian in a Marine rifle platoon during the Battle of Fallujah and is a professional speaker on America’s conflicts\, espionage\, special operations\, and counterinsurgency. He has provided historical consulting for DreamWorks’ award-winning miniseries Band of Brothers and for documentaries produced by the BBC\, the History Channel\, and Discovery. \n\n\n\n\n\n\n\nALL SALES ARE FINAL. TICKETS AND REGISTRATIONS ARE NON-REFUNDABLE UNLESS THE AMERICAN CIVIL WAR MUSEUM CANCELS AN EVENT.\n\n\nRegister on Eventbrite
URL:https://acwm.org/event/the-unvanquished/
LOCATION:American Civil War Museum – Appomattox\, 159 Horseshoe Rd\, Appomattox\, Virginia\, 24522\, United States
CATEGORIES:Appomattox Events,Book Talk
ATTACH;FMTTYPE=image/png:https://acwm.org/wp-content/uploads/the-unvanquished.png
END:VEVENT
BEGIN:VEVENT
DTSTART;TZID=America/New_York:20240505T110000
DTEND;TZID=America/New_York:20240505T114500
DTSTAMP:20260421T223520
CREATED:20240409T150933Z
LAST-MODIFIED:20240521T170844Z
UID:10000204-1714906800-1714909500@acwm.org
SUMMARY:Tredegar History Tour
DESCRIPTION:Find yourself in the fascinating history of the former Tredegar Iron Works with our “Tredegar History Tour”! Located in the heart of downtown Richmond\, our museum is situated on the very site where the iron foundry once stood.\n\n\n\nMEMORIAL DAY WEEKEND (Saturday\, Sunday & Monday) at 11:00 AM or 3:00 PM to explore one of Richmond’s famous historical sites and learn about the cannon-making process in a special site tour. We’re also doing musket firing demonstrations at 1pm each day this weekend! (included with Museum admission). You don’t want to miss it!
URL:https://acwm.org/event/tredegar-history-tour-2/2024-05-05/
LOCATION:ACWM – Historic Tredegar\, 480 Tredegar St.\, Richmond\, Virginia\, 23219\, United States
CATEGORIES:Richmond Events,Tours
ATTACH;FMTTYPE=image/png:https://acwm.org/wp-content/uploads/tredegar-history-tour-1.png
END:VEVENT
BEGIN:VEVENT
DTSTART;TZID=America/New_York:20240504T110000
DTEND;TZID=America/New_York:20240504T114500
DTSTAMP:20260421T223520
CREATED:20240409T150933Z
LAST-MODIFIED:20240521T170844Z
UID:10000202-1714820400-1714823100@acwm.org
SUMMARY:Tredegar History Tour
DESCRIPTION:Find yourself in the fascinating history of the former Tredegar Iron Works with our “Tredegar History Tour”! Located in the heart of downtown Richmond\, our museum is situated on the very site where the iron foundry once stood.\n\n\n\nMEMORIAL DAY WEEKEND (Saturday\, Sunday & Monday) at 11:00 AM or 3:00 PM to explore one of Richmond’s famous historical sites and learn about the cannon-making process in a special site tour. We’re also doing musket firing demonstrations at 1pm each day this weekend! (included with Museum admission). You don’t want to miss it!
URL:https://acwm.org/event/tredegar-history-tour-2/2024-05-04/
LOCATION:ACWM – Historic Tredegar\, 480 Tredegar St.\, Richmond\, Virginia\, 23219\, United States
CATEGORIES:Richmond Events,Tours
ATTACH;FMTTYPE=image/png:https://acwm.org/wp-content/uploads/tredegar-history-tour-1.png
END:VEVENT
BEGIN:VEVENT
DTSTART;TZID=America/New_York:20240428T110000
DTEND;TZID=America/New_York:20240428T114500
DTSTAMP:20260421T223520
CREATED:20240409T150933Z
LAST-MODIFIED:20240521T170844Z
UID:10000194-1714302000-1714304700@acwm.org
SUMMARY:Tredegar History Tour
DESCRIPTION:Find yourself in the fascinating history of the former Tredegar Iron Works with our “Tredegar History Tour”! Located in the heart of downtown Richmond\, our museum is situated on the very site where the iron foundry once stood.\n\n\n\nMEMORIAL DAY WEEKEND (Saturday\, Sunday & Monday) at 11:00 AM or 3:00 PM to explore one of Richmond’s famous historical sites and learn about the cannon-making process in a special site tour. We’re also doing musket firing demonstrations at 1pm each day this weekend! (included with Museum admission). You don’t want to miss it!
URL:https://acwm.org/event/tredegar-history-tour-2/2024-04-28/
LOCATION:ACWM – Historic Tredegar\, 480 Tredegar St.\, Richmond\, Virginia\, 23219\, United States
CATEGORIES:Richmond Events,Tours
ATTACH;FMTTYPE=image/png:https://acwm.org/wp-content/uploads/tredegar-history-tour-1.png
END:VEVENT
BEGIN:VEVENT
DTSTART;TZID=America/New_York:20240427T110000
DTEND;TZID=America/New_York:20240427T114500
DTSTAMP:20260421T223520
CREATED:20240409T150933Z
LAST-MODIFIED:20240521T170844Z
UID:10000192-1714215600-1714218300@acwm.org
SUMMARY:Tredegar History Tour
DESCRIPTION:Find yourself in the fascinating history of the former Tredegar Iron Works with our “Tredegar History Tour”! Located in the heart of downtown Richmond\, our museum is situated on the very site where the iron foundry once stood.\n\n\n\nMEMORIAL DAY WEEKEND (Saturday\, Sunday & Monday) at 11:00 AM or 3:00 PM to explore one of Richmond’s famous historical sites and learn about the cannon-making process in a special site tour. We’re also doing musket firing demonstrations at 1pm each day this weekend! (included with Museum admission). You don’t want to miss it!
URL:https://acwm.org/event/tredegar-history-tour-2/2024-04-27/
LOCATION:ACWM – Historic Tredegar\, 480 Tredegar St.\, Richmond\, Virginia\, 23219\, United States
CATEGORIES:Richmond Events,Tours
ATTACH;FMTTYPE=image/png:https://acwm.org/wp-content/uploads/tredegar-history-tour-1.png
END:VEVENT
BEGIN:VEVENT
DTSTART;TZID=America/New_York:20240427T100000
DTEND;TZID=America/New_York:20240427T170000
DTSTAMP:20260421T223520
CREATED:20240424T185245Z
LAST-MODIFIED:20240424T185250Z
UID:10000220-1714212000-1714237200@acwm.org
SUMMARY:'The Impending Crisis' Exhibition Opening
DESCRIPTION:The American Civil War Museum will launch a major exhibition at ACWM-Tredegar in Richmond\, Virginia\, on April 27th\, 2024. Titled The Impending Crisis\, this exhibit will delve into the events\, individuals\, and topics that led to the division of the United States on the verge of civil war.\n\n\n\n\n\n\n\nThe Impending Crisis exhibit takes visitors on a journey through differing national viewpoints on faith\, politics\, and patriotism in the years leading up to the Civil War. While touring the exhibit\, visitors meet both well-known and lesser-known people\, hearing their words\, seeing the families and communities they built\, and the extreme hardships they suffered. Visitors gain a better understanding of what was truly at stake during this pivotal time in the nation’s history\, and how the actions to engage in a civil war remade America.\n\n\n\n\n\n\n\n\nLearn More\n\n\n\n\n\n\n\n\nwith generous support from
URL:https://acwm.org/event/the-impending-crisis-opening/
LOCATION:ACWM – Historic Tredegar\, 480 Tredegar St.\, Richmond\, Virginia\, 23219\, United States
CATEGORIES:Richmond Events
ATTACH;FMTTYPE=image/png:https://acwm.org/wp-content/uploads/impending-crisis-now-open-header.png
END:VEVENT
BEGIN:VEVENT
DTSTART;TZID=America/New_York:20240425T183000
DTEND;TZID=America/New_York:20240425T193000
DTSTAMP:20260421T223520
CREATED:20240205T213429Z
LAST-MODIFIED:20240416T180211Z
UID:10000177-1714069800-1714073400@acwm.org
SUMMARY:"Frederick Douglass and the Problem of American Democracy" with David Blight￼
DESCRIPTION:This is an IN-PERSON event at ACWM-Tredegar\n\n\n\nACWM members\, we would like to invite you to an exclusive reception at 5:30 pm. \n\n\n\n\n\n\n\nJoin us as David Blight sheds light on the extraordinary life of Frederick Douglass\, offering a fresh perspective on his enduring impact on American society. Douglass’s journey is one of courage and resilience\, as he escaped slavery and became a major literary figure and advocate for political abolitionism. David Blight’s groundbreaking biography unveils the untold story of Douglass’s complex personal life and intellectual prowess\, cementing his legacy as a towering figure in American history. Don’t miss this exclusive opportunity to explore the life and legacy of one of America’s greatest icons\, as told by one of today’s foremost historians.\n\n\n\nDavid W. Blight is Sterling Professor of History and Director of the Gilder Lehrman Center for the Study of Slavery\, Resistance\, and Abolition at Yale University. He is the author or editor of a dozen books\, including Frederick Douglass: Prophet of Freedom; American: The Civil War in the Civil Rights Era; Race and Reunion: The Civil War in American Memory; and annotated editions of Douglass’s first two autobiographies. He has worked on Douglass for much of his professional life and has been awarded the Pulitzer Prize\, the Bancroft Prize\, the Abraham Lincoln Prize\, and the Frederick Douglass Prize\, among others. Blight has always been a teacher first. At the beginning of his career\, he spent seven years as a high school history teacher in his hometown of Flint\, Michigan. Blight maintains a website\, including information about public lectures\, books\, articles\, and interviews at www.davidwblight.com/\n\n\n\n\n\n\n\n\nIn this “cinematic and deeply engaging” (The New York Times Book Review) biography\, David Blight has drawn on new information held in a private collection that few other historian have consulted\, as well as recently discovered issues of Douglass’s newspapers. “Absorbing and even moving…a brilliant book that speaks to our own time as well as Douglass’s” (The Wall Street Journal)\, Blight’s biography tells the fascinating story of Douglass’s two marriages and his complex extended family. “David Blight has written the definitive biography of Frederick Douglass…a powerful portrait of one of the most important American voices of the nineteenth century” (The Boston Globe).\n\n\n\n\nPurchase Book\n\n\n\n\nThank you for supporting our mission by purchasing through our online store. Your contribution enables us to continue providing engaging events and experiences.\n\n\n\n\n\n\n\n\nAll sales are final. Tickets and registrations are non-refundable unless the American Civil War Museum cancels an event.\n\n\n\n\n\n\n\nACWM members\, we would like to invite you to an exclusive reception at 5:30 pm. \n\n\nRegister on Eventbrite\n\n\n\n\n\n\n\nJoin us for our Spring Lecture Series as we delve into the causes\, course\, and consequences of the Civil War\, from abolition through Reconstruction\, as part of our extensive initiative “The Civil War & Remaking America” and prepare to open our newest exhibition\, The Impending Crisis in Spring 2024!
URL:https://acwm.org/event/frederick-douglass-blight/
LOCATION:ACWM – Historic Tredegar\, 480 Tredegar St.\, Richmond\, Virginia\, 23219\, United States
CATEGORIES:Lectures,Richmond Events
ATTACH;FMTTYPE=image/png:https://acwm.org/wp-content/uploads/frederick-douglass-blight-header.png
END:VEVENT
END:VCALENDAR