BEGIN:VCALENDAR
VERSION:2.0
PRODID:-//American Civil War Museum - ECPv6.15.12.2//NONSGML v1.0//EN
CALSCALE:GREGORIAN
METHOD:PUBLISH
X-WR-CALNAME:American Civil War Museum
X-ORIGINAL-URL:https://acwm.org
X-WR-CALDESC:Events for American Civil War Museum
REFRESH-INTERVAL;VALUE=DURATION:PT1H
X-Robots-Tag:noindex
X-PUBLISHED-TTL:PT1H
BEGIN:VTIMEZONE
TZID:America/New_York
BEGIN:DAYLIGHT
TZOFFSETFROM:-0500
TZOFFSETTO:-0400
TZNAME:EDT
DTSTART:20250309T070000
END:DAYLIGHT
BEGIN:STANDARD
TZOFFSETFROM:-0400
TZOFFSETTO:-0500
TZNAME:EST
DTSTART:20251102T060000
END:STANDARD
BEGIN:DAYLIGHT
TZOFFSETFROM:-0500
TZOFFSETTO:-0400
TZNAME:EDT
DTSTART:20260308T070000
END:DAYLIGHT
BEGIN:STANDARD
TZOFFSETFROM:-0400
TZOFFSETTO:-0500
TZNAME:EST
DTSTART:20261101T060000
END:STANDARD
BEGIN:DAYLIGHT
TZOFFSETFROM:-0500
TZOFFSETTO:-0400
TZNAME:EDT
DTSTART:20270314T070000
END:DAYLIGHT
BEGIN:STANDARD
TZOFFSETFROM:-0400
TZOFFSETTO:-0500
TZNAME:EST
DTSTART:20271107T060000
END:STANDARD
END:VTIMEZONE
BEGIN:VEVENT
DTSTART;TZID=America/New_York:20260630T180000
DTEND;TZID=America/New_York:20260630T190000
DTSTAMP:20260420T215930
CREATED:20260309T155627Z
LAST-MODIFIED:20260309T155631Z
UID:10001080-1782842400-1782846000@acwm.org
SUMMARY:A Slumbering Serpent: George Washington on Slavery and Disunion
DESCRIPTION:In this engaging living history program\, George Washington (portrayed by Brian Hilton) will reflect on the moral\, economic\, and political challenges of slavery in his time and the growing divisions threatening the young nation’s unity. The presentation offers a historically grounded and thoughtful exploration of Washington’s evolving conscience and leadership. \n\n\n\nFollowing his remarks\, the audience will be invited to engage in a question-and-answer session exploring these complex issues. \n\n\n\n \n\n\n\nMembers Reception at 5 pm
URL:https://acwm.org/event/a-slumbering-serpent-george-washington-on-slavery-and-disunion/
CATEGORIES:Family-Friendly,For Educators,For Students,Lectures,Richmond Events,Tours
ATTACH;FMTTYPE=image/jpeg:https://acwm.org/wp-content/uploads/Hilton_GW_6.2026-web2-scaled.jpg
END:VEVENT
END:VCALENDAR